BEGIN:VCALENDAR
VERSION:2.0
PRODID:-//LEONARD SLATKIN - ECPv6.15.17.1//NONSGML v1.0//EN
CALSCALE:GREGORIAN
METHOD:PUBLISH
X-WR-CALNAME:LEONARD SLATKIN
X-ORIGINAL-URL:https://www.leonardslatkin.com
X-WR-CALDESC:Events for LEONARD SLATKIN
REFRESH-INTERVAL;VALUE=DURATION:PT1H
X-Robots-Tag:noindex
X-PUBLISHED-TTL:PT1H
BEGIN:VTIMEZONE
TZID:America/New_York
BEGIN:DAYLIGHT
TZOFFSETFROM:-0500
TZOFFSETTO:-0400
TZNAME:EDT
DTSTART:20250309T070000
END:DAYLIGHT
BEGIN:STANDARD
TZOFFSETFROM:-0400
TZOFFSETTO:-0500
TZNAME:EST
DTSTART:20251102T060000
END:STANDARD
BEGIN:DAYLIGHT
TZOFFSETFROM:-0500
TZOFFSETTO:-0400
TZNAME:EDT
DTSTART:20260308T070000
END:DAYLIGHT
BEGIN:STANDARD
TZOFFSETFROM:-0400
TZOFFSETTO:-0500
TZNAME:EST
DTSTART:20261101T060000
END:STANDARD
BEGIN:DAYLIGHT
TZOFFSETFROM:-0500
TZOFFSETTO:-0400
TZNAME:EDT
DTSTART:20270314T070000
END:DAYLIGHT
BEGIN:STANDARD
TZOFFSETFROM:-0400
TZOFFSETTO:-0500
TZNAME:EST
DTSTART:20271107T060000
END:STANDARD
END:VTIMEZONE
BEGIN:VEVENT
DTSTART;TZID=America/New_York:20260313T193000
DTEND;TZID=America/New_York:20260313T193000
DTSTAMP:20260420T225259
CREATED:20250926T135537Z
LAST-MODIFIED:20250926T141346Z
UID:10001083-1773430200-1773430200@www.leonardslatkin.com
SUMMARY:Warsaw Philharmonic Orchestra
DESCRIPTION:LEONARD SLATKIN: Schubertiade\nCOPLAND: Suite from Appalachian Spring\nRACHMANINOFF: Symphony No. 2
URL:https://www.leonardslatkin.com/schedule/warsaw-philharmonic-orchestra-2/
LOCATION:Warsaw Philharmonic Hall\, Ul. Sienkiewicza 10\, Warsaw\, Masovia\, 00950\, Poland
GEO:52.2342428;21.0113341
X-APPLE-STRUCTURED-LOCATION;VALUE=URI;X-ADDRESS=Warsaw Philharmonic Hall Ul. Sienkiewicza 10 Warsaw Masovia 00950 Poland;X-APPLE-RADIUS=500;X-TITLE=Ul. Sienkiewicza 10:geo:21.0113341,52.2342428
END:VEVENT
BEGIN:VEVENT
DTSTART;TZID=America/New_York:20260314T180000
DTEND;TZID=America/New_York:20260314T180000
DTSTAMP:20260420T225259
CREATED:20250926T135916Z
LAST-MODIFIED:20250926T141307Z
UID:10001084-1773511200-1773511200@www.leonardslatkin.com
SUMMARY:Warsaw Philharmonic Orchestra
DESCRIPTION:LEONARD SLATKIN: Schubertiade\nCOPLAND: Suite from Appalachian Spring\nRACHMANINOFF: Symphony No. 2
URL:https://www.leonardslatkin.com/schedule/warsaw-philharmonic-orchestra-3/
LOCATION:Warsaw Philharmonic Hall\, Ul. Sienkiewicza 10\, Warsaw\, Masovia\, 00950\, Poland
GEO:52.2342428;21.0113341
X-APPLE-STRUCTURED-LOCATION;VALUE=URI;X-ADDRESS=Warsaw Philharmonic Hall Ul. Sienkiewicza 10 Warsaw Masovia 00950 Poland;X-APPLE-RADIUS=500;X-TITLE=Ul. Sienkiewicza 10:geo:21.0113341,52.2342428
END:VEVENT
END:VCALENDAR