BEGIN:VCALENDAR
VERSION:2.0
PRODID:-//LEONARD SLATKIN - ECPv6.15.17.1//NONSGML v1.0//EN
CALSCALE:GREGORIAN
METHOD:PUBLISH
X-ORIGINAL-URL:https://www.leonardslatkin.com
X-WR-CALDESC:Events for LEONARD SLATKIN
REFRESH-INTERVAL;VALUE=DURATION:PT1H
X-Robots-Tag:noindex
X-PUBLISHED-TTL:PT1H
BEGIN:VTIMEZONE
TZID:America/New_York
BEGIN:DAYLIGHT
TZOFFSETFROM:-0500
TZOFFSETTO:-0400
TZNAME:EDT
DTSTART:20240310T070000
END:DAYLIGHT
BEGIN:STANDARD
TZOFFSETFROM:-0400
TZOFFSETTO:-0500
TZNAME:EST
DTSTART:20241103T060000
END:STANDARD
BEGIN:DAYLIGHT
TZOFFSETFROM:-0500
TZOFFSETTO:-0400
TZNAME:EDT
DTSTART:20250309T070000
END:DAYLIGHT
BEGIN:STANDARD
TZOFFSETFROM:-0400
TZOFFSETTO:-0500
TZNAME:EST
DTSTART:20251102T060000
END:STANDARD
BEGIN:DAYLIGHT
TZOFFSETFROM:-0500
TZOFFSETTO:-0400
TZNAME:EDT
DTSTART:20260308T070000
END:DAYLIGHT
BEGIN:STANDARD
TZOFFSETFROM:-0400
TZOFFSETTO:-0500
TZNAME:EST
DTSTART:20261101T060000
END:STANDARD
END:VTIMEZONE
BEGIN:VEVENT
DTSTART;TZID=America/New_York:20250306T193000
DTEND;TZID=America/New_York:20250306T193000
DTSTAMP:20260423T052354
CREATED:20250208T163947Z
LAST-MODIFIED:20250208T163947Z
UID:10001046-1741289400-1741289400@www.leonardslatkin.com
SUMMARY:North Carolina Symphony
DESCRIPTION:Olga Kern\, piano\nCINDY MCTEE: Timepiece\nRACHMANINOFF: Piano Concerto No. 2\nTCHAIKOVSKY: Symphony No. 6\, “Pathétique”
URL:https://www.leonardslatkin.com/schedule/north-carolina-symphony-3/
LOCATION:Memorial Hall\, 208 East Cameron Avenue\, Chapel Hill\, 27599\, United States
END:VEVENT
BEGIN:VEVENT
DTSTART;TZID=America/New_York:20250307T120000
DTEND;TZID=America/New_York:20250307T120000
DTSTAMP:20260423T052354
CREATED:20250208T164238Z
LAST-MODIFIED:20250208T164238Z
UID:10001047-1741348800-1741348800@www.leonardslatkin.com
SUMMARY:North Carolina Symphony
DESCRIPTION:Olga Kern\, piano\nCINDY MCTEE: Timepiece\nRACHMANINOFF: Piano Concerto No. 2
URL:https://www.leonardslatkin.com/schedule/north-carolina-symphony-4/
LOCATION:Meymandi Concert Hall\, 2 East South Street\, Raleigh\, NC\, 27601\, United States
END:VEVENT
BEGIN:VEVENT
DTSTART;TZID=America/New_York:20250307T200000
DTEND;TZID=America/New_York:20250307T200000
DTSTAMP:20260423T052355
CREATED:20240418T154518Z
LAST-MODIFIED:20250208T164059Z
UID:10001015-1741377600-1741377600@www.leonardslatkin.com
SUMMARY:North Carolina Symphony
DESCRIPTION:Olga Kern\, piano\nCINDY MCTEE: Timepiece\nRACHMANINOFF: Piano Concerto No. 2\nTCHAIKOVSKY: Symphony No. 6\, “Pathétique”
URL:https://www.leonardslatkin.com/schedule/north-carolina-symphony/
LOCATION:Meymandi Concert Hall\, 2 East South Street\, Raleigh\, NC\, 27601\, United States
END:VEVENT
BEGIN:VEVENT
DTSTART;TZID=America/New_York:20250308T200000
DTEND;TZID=America/New_York:20250308T200000
DTSTAMP:20260423T052355
CREATED:20240418T154826Z
LAST-MODIFIED:20250208T164025Z
UID:10001016-1741464000-1741464000@www.leonardslatkin.com
SUMMARY:North Carolina Symphony
DESCRIPTION:Olga Kern\, piano\nCINDY MCTEE: Timepiece\nRACHMANINOFF: Piano Concerto No. 2\nTCHAIKOVSKY: Symphony No. 6\, “Pathétique”
URL:https://www.leonardslatkin.com/schedule/north-carolina-symphony-2/
LOCATION:Meymandi Concert Hall\, 2 East South Street\, Raleigh\, NC\, 27601\, United States
END:VEVENT
END:VCALENDAR