BEGIN:VCALENDAR
VERSION:2.0
PRODID:-//LEONARD SLATKIN - ECPv6.15.17.1//NONSGML v1.0//EN
CALSCALE:GREGORIAN
METHOD:PUBLISH
X-WR-CALNAME:LEONARD SLATKIN
X-ORIGINAL-URL:https://www.leonardslatkin.com
X-WR-CALDESC:Events for LEONARD SLATKIN
REFRESH-INTERVAL;VALUE=DURATION:PT1H
X-Robots-Tag:noindex
X-PUBLISHED-TTL:PT1H
BEGIN:VTIMEZONE
TZID:America/New_York
BEGIN:DAYLIGHT
TZOFFSETFROM:-0500
TZOFFSETTO:-0400
TZNAME:EDT
DTSTART:20240310T070000
END:DAYLIGHT
BEGIN:STANDARD
TZOFFSETFROM:-0400
TZOFFSETTO:-0500
TZNAME:EST
DTSTART:20241103T060000
END:STANDARD
BEGIN:DAYLIGHT
TZOFFSETFROM:-0500
TZOFFSETTO:-0400
TZNAME:EDT
DTSTART:20250309T070000
END:DAYLIGHT
BEGIN:STANDARD
TZOFFSETFROM:-0400
TZOFFSETTO:-0500
TZNAME:EST
DTSTART:20251102T060000
END:STANDARD
BEGIN:DAYLIGHT
TZOFFSETFROM:-0500
TZOFFSETTO:-0400
TZNAME:EDT
DTSTART:20260308T070000
END:DAYLIGHT
BEGIN:STANDARD
TZOFFSETFROM:-0400
TZOFFSETTO:-0500
TZNAME:EST
DTSTART:20261101T060000
END:STANDARD
END:VTIMEZONE
BEGIN:VEVENT
DTSTART;TZID=America/New_York:20250114T190000
DTEND;TZID=America/New_York:20250114T190000
DTSTAMP:20260422T183026
CREATED:20240418T143102Z
LAST-MODIFIED:20240418T143102Z
UID:10001008-1736881200-1736881200@www.leonardslatkin.com
SUMMARY:Tokyo Metropolitan Symphony Orchestra
DESCRIPTION:Mayumi Kanagawa\, violin\nCINDY MCTEE: Adagio for Strings\nWALTON: Concerto for Violin\nRACHMANINOFF: Symphony No. 2
URL:https://www.leonardslatkin.com/schedule/tokyo-metropolitan-symphony-orchestra/
LOCATION:Suntory Hall\, 13-1\, Akasaka 1-Chōme\, Minato\, Tokyo\, 107-0052\, Japan
GEO:35.6692907;139.742031
X-APPLE-STRUCTURED-LOCATION;VALUE=URI;X-ADDRESS=Suntory Hall 13-1 Akasaka 1-Chōme Minato Tokyo 107-0052 Japan;X-APPLE-RADIUS=500;X-TITLE=13-1\, Akasaka 1-Chōme\, Minato:geo:139.742031,35.6692907
END:VEVENT
BEGIN:VEVENT
DTSTART;TZID=America/New_York:20250115T140000
DTEND;TZID=America/New_York:20250115T140000
DTSTAMP:20260422T183026
CREATED:20240418T143244Z
LAST-MODIFIED:20240418T143244Z
UID:10001009-1736949600-1736949600@www.leonardslatkin.com
SUMMARY:Tokyo Metropolitan Symphony Orchestra
DESCRIPTION:Mayumi Kanagawa\, violin\nCINDY MCTEE: Adagio for Strings\nWALTON: Concerto for Violin\nRACHMANINOFF: Symphony No. 2
URL:https://www.leonardslatkin.com/schedule/tokyo-metropolitan-symphony-orchestra-2/
LOCATION:Suntory Hall\, 13-1\, Akasaka 1-Chōme\, Minato\, Tokyo\, 107-0052\, Japan
GEO:35.6692907;139.742031
X-APPLE-STRUCTURED-LOCATION;VALUE=URI;X-ADDRESS=Suntory Hall 13-1 Akasaka 1-Chōme Minato Tokyo 107-0052 Japan;X-APPLE-RADIUS=500;X-TITLE=13-1\, Akasaka 1-Chōme\, Minato:geo:139.742031,35.6692907
END:VEVENT
BEGIN:VEVENT
DTSTART;TZID=America/New_York:20250119T140000
DTEND;TZID=America/New_York:20250119T140000
DTSTAMP:20260422T183026
CREATED:20250113T153707Z
LAST-MODIFIED:20250113T153707Z
UID:10001045-1737295200-1737295200@www.leonardslatkin.com
SUMMARY:Tokyo Metropolitan Symphony Orchestra
DESCRIPTION:Shinya Kiyozuka\, piano\nGRIEG: Concerto for Piano\nSIBELIUS: Symphony No. 2
URL:https://www.leonardslatkin.com/schedule/tokyo-metropolitan-symphony-orchestra-3/
LOCATION:Kawasho Hall\, 2-3-1 Yojiro\, Kagoshima\, 890-0062\, Japan
END:VEVENT
END:VCALENDAR