BEGIN:VCALENDAR
VERSION:2.0
PRODID:-//LEONARD SLATKIN - ECPv6.15.17.1//NONSGML v1.0//EN
CALSCALE:GREGORIAN
METHOD:PUBLISH
X-ORIGINAL-URL:https://www.leonardslatkin.com
X-WR-CALDESC:Events for LEONARD SLATKIN
REFRESH-INTERVAL;VALUE=DURATION:PT1H
X-Robots-Tag:noindex
X-PUBLISHED-TTL:PT1H
BEGIN:VTIMEZONE
TZID:America/New_York
BEGIN:DAYLIGHT
TZOFFSETFROM:-0500
TZOFFSETTO:-0400
TZNAME:EDT
DTSTART:20210314T070000
END:DAYLIGHT
BEGIN:STANDARD
TZOFFSETFROM:-0400
TZOFFSETTO:-0500
TZNAME:EST
DTSTART:20211107T060000
END:STANDARD
BEGIN:DAYLIGHT
TZOFFSETFROM:-0500
TZOFFSETTO:-0400
TZNAME:EDT
DTSTART:20220313T070000
END:DAYLIGHT
BEGIN:STANDARD
TZOFFSETFROM:-0400
TZOFFSETTO:-0500
TZNAME:EST
DTSTART:20221106T060000
END:STANDARD
BEGIN:DAYLIGHT
TZOFFSETFROM:-0500
TZOFFSETTO:-0400
TZNAME:EDT
DTSTART:20230312T070000
END:DAYLIGHT
BEGIN:STANDARD
TZOFFSETFROM:-0400
TZOFFSETTO:-0500
TZNAME:EST
DTSTART:20231105T060000
END:STANDARD
END:VTIMEZONE
BEGIN:VEVENT
DTSTART;TZID=America/New_York:20220506T183000
DTEND;TZID=America/New_York:20220506T183000
DTSTAMP:20260425T215132
CREATED:20220419T144916Z
LAST-MODIFIED:20220419T145301Z
UID:10000935-1651861800-1651861800@www.leonardslatkin.com
SUMMARY:Rhode Island Philharmonic
DESCRIPTION:Talise Trevigne\, soprano\nNina Yoshida Nelsen\, mezzo-soprano\nColin Ainsworth\, tenor\nJohn Relyea\, bass\nProvidence Singers\, chorus\nBEETHOVEN: Symphony No. 9
URL:https://www.leonardslatkin.com/schedule/rhode-island-philharmonic-3/
LOCATION:Veterans Memorial Auditorium (The VETS)\, 1 Ave of the Arts\, Providence\, RI\, 02903\, United States
END:VEVENT
BEGIN:VEVENT
DTSTART;TZID=America/New_York:20220507T200000
DTEND;TZID=America/New_York:20220507T200000
DTSTAMP:20260425T215132
CREATED:20220419T144706Z
LAST-MODIFIED:20220419T145337Z
UID:10000934-1651953600-1651953600@www.leonardslatkin.com
SUMMARY:Rhode Island Philharmonic
DESCRIPTION:Talise Trevigne\, soprano\nNina Yoshida Nelsen\, mezzo-soprano\nColin Ainsworth\, tenor\nJohn Relyea\, bass\nProvidence Singers\, chorus\nBARBER: Adagio for Strings\nBRAHMS: A German Requiem\, Movement IV (How Lovely Is Thy Dwelling Place)\nBEETHOVEN: Symphony No. 9
URL:https://www.leonardslatkin.com/schedule/rhode-island-philharmonic-2/
LOCATION:Veterans Memorial Auditorium (The VETS)\, 1 Ave of the Arts\, Providence\, RI\, 02903\, United States
END:VEVENT
END:VCALENDAR