BEGIN:VCALENDAR
VERSION:2.0
PRODID:-//LEONARD SLATKIN - ECPv6.15.17.1//NONSGML v1.0//EN
CALSCALE:GREGORIAN
METHOD:PUBLISH
X-ORIGINAL-URL:https://www.leonardslatkin.com
X-WR-CALDESC:Events for LEONARD SLATKIN
REFRESH-INTERVAL;VALUE=DURATION:PT1H
X-Robots-Tag:noindex
X-PUBLISHED-TTL:PT1H
BEGIN:VTIMEZONE
TZID:America/New_York
BEGIN:DAYLIGHT
TZOFFSETFROM:-0500
TZOFFSETTO:-0400
TZNAME:EDT
DTSTART:20200308T070000
END:DAYLIGHT
BEGIN:STANDARD
TZOFFSETFROM:-0400
TZOFFSETTO:-0500
TZNAME:EST
DTSTART:20201101T060000
END:STANDARD
BEGIN:DAYLIGHT
TZOFFSETFROM:-0500
TZOFFSETTO:-0400
TZNAME:EDT
DTSTART:20210314T070000
END:DAYLIGHT
BEGIN:STANDARD
TZOFFSETFROM:-0400
TZOFFSETTO:-0500
TZNAME:EST
DTSTART:20211107T060000
END:STANDARD
BEGIN:DAYLIGHT
TZOFFSETFROM:-0500
TZOFFSETTO:-0400
TZNAME:EDT
DTSTART:20220313T070000
END:DAYLIGHT
BEGIN:STANDARD
TZOFFSETFROM:-0400
TZOFFSETTO:-0500
TZNAME:EST
DTSTART:20221106T060000
END:STANDARD
END:VTIMEZONE
BEGIN:VEVENT
DTSTART;TZID=America/New_York:20210410T170000
DTEND;TZID=America/New_York:20210410T170000
DTSTAMP:20260425T113213
CREATED:20210330T153626Z
LAST-MODIFIED:20210330T154035Z
UID:10000894-1618074000-1618074000@www.leonardslatkin.com
SUMMARY:Rhode Island Philharmonic Orchestra
DESCRIPTION:Jon Kimura Parker\, piano\nBARTÓK: Romanian Folk Dances\nWAGNER: Siegfried Idyll\nMOZART: Piano Concerto No. 21
URL:https://www.leonardslatkin.com/schedule/rhode-island-philharmonic-orchestra/
LOCATION:Veterans Memorial Auditorium (The VETS)\, 1 Ave of the Arts\, Providence\, RI\, 02903\, United States
END:VEVENT
BEGIN:VEVENT
DTSTART;TZID=America/New_York:20210410T200000
DTEND;TZID=America/New_York:20210410T200000
DTSTAMP:20260425T113213
CREATED:20210330T153957Z
LAST-MODIFIED:20210330T153957Z
UID:10000895-1618084800-1618084800@www.leonardslatkin.com
SUMMARY:Rhode Island Philharmonic Orchestra
DESCRIPTION:Jon Kimura Parker\, piano\nBARTÓK: Romanian Folk Dances\nWAGNER: Siegfried Idyll\nMOZART: Piano Concerto No. 21\nLIVE WEBCAST @ 8:00 pm EDT
URL:https://www.leonardslatkin.com/schedule/rhode-island-philharmonic-orchestra-2/
LOCATION:Veterans Memorial Auditorium (The VETS)\, 1 Ave of the Arts\, Providence\, RI\, 02903\, United States
END:VEVENT
END:VCALENDAR