BEGIN:VCALENDAR
VERSION:2.0
PRODID:-//LEONARD SLATKIN - ECPv6.15.17.1//NONSGML v1.0//EN
CALSCALE:GREGORIAN
METHOD:PUBLISH
X-ORIGINAL-URL:https://www.leonardslatkin.com
X-WR-CALDESC:Events for LEONARD SLATKIN
REFRESH-INTERVAL;VALUE=DURATION:PT1H
X-Robots-Tag:noindex
X-PUBLISHED-TTL:PT1H
BEGIN:VTIMEZONE
TZID:America/New_York
BEGIN:DAYLIGHT
TZOFFSETFROM:-0500
TZOFFSETTO:-0400
TZNAME:EDT
DTSTART:20250309T070000
END:DAYLIGHT
BEGIN:STANDARD
TZOFFSETFROM:-0400
TZOFFSETTO:-0500
TZNAME:EST
DTSTART:20251102T060000
END:STANDARD
BEGIN:DAYLIGHT
TZOFFSETFROM:-0500
TZOFFSETTO:-0400
TZNAME:EDT
DTSTART:20260308T070000
END:DAYLIGHT
BEGIN:STANDARD
TZOFFSETFROM:-0400
TZOFFSETTO:-0500
TZNAME:EST
DTSTART:20261101T060000
END:STANDARD
BEGIN:DAYLIGHT
TZOFFSETFROM:-0500
TZOFFSETTO:-0400
TZNAME:EDT
DTSTART:20270314T070000
END:DAYLIGHT
BEGIN:STANDARD
TZOFFSETFROM:-0400
TZOFFSETTO:-0500
TZNAME:EST
DTSTART:20271107T060000
END:STANDARD
END:VTIMEZONE
BEGIN:VEVENT
DTSTART;TZID=America/New_York:20260710T200000
DTEND;TZID=America/New_York:20260710T200000
DTSTAMP:20260422T055634
CREATED:20260226T153353Z
LAST-MODIFIED:20260312T144332Z
UID:10001097-1783713600-1783713600@www.leonardslatkin.com
SUMMARY:Grant Park Music Festival
DESCRIPTION:Yevgeny Kutik\, violin\nLEONARD SLATKIN: Schubertiade\nJOSEPH SCHWANTNER: Violin Concerto\nTCHAIKOVSKY: Symphony No. 5
URL:https://www.leonardslatkin.com/schedule/grant-park-music-festival/
LOCATION:Jay Pritzker Pavilion\, 201 E Randolph Street\, Chicago\, IL\, 60601\, United States
END:VEVENT
BEGIN:VEVENT
DTSTART;TZID=America/New_York:20260711T200000
DTEND;TZID=America/New_York:20260711T200000
DTSTAMP:20260422T055634
CREATED:20260226T153819Z
LAST-MODIFIED:20260312T144246Z
UID:10001098-1783800000-1783800000@www.leonardslatkin.com
SUMMARY:Grant Park Music Festival
DESCRIPTION:Yevgeny Kutik\, violin\nLEONARD SLATKIN: Schubertiade\nJOSEPH SCHWANTNER: Violin Concerto\nTCHAIKOVSKY: Symphony No. 5
URL:https://www.leonardslatkin.com/schedule/grant-park-music-festival-2/
LOCATION:Jay Pritzker Pavilion\, 201 E Randolph Street\, Chicago\, IL\, 60601\, United States
END:VEVENT
BEGIN:VEVENT
DTSTART;TZID=America/New_York:20260723T193000
DTEND;TZID=America/New_York:20260723T193000
DTSTAMP:20260422T055634
CREATED:20260123T142709Z
LAST-MODIFIED:20260226T152314Z
UID:10001091-1784835000-1784835000@www.leonardslatkin.com
SUMMARY:Colorado Music Festival
DESCRIPTION:Njioma Grievous\, violin\nCOPLAND: Rodeo\nJOHN CORIGLIANO: Chaconne for Violin and Orchestra from The Red Violin\nNELSON: Savannah River Holiday\nCINDY MCTEE: Adagio for String Orchestra\nGERSHWIN: An American in Paris
URL:https://www.leonardslatkin.com/schedule/colorado-music-festival/
LOCATION:Chautauqua Auditorium\, 900 Baseline Road\, Boulder\, CO\, 80302\, United States
END:VEVENT
BEGIN:VEVENT
DTSTART;TZID=America/New_York:20260724T183000
DTEND;TZID=America/New_York:20260724T183000
DTSTAMP:20260422T055634
CREATED:20260123T142807Z
LAST-MODIFIED:20260226T152347Z
UID:10001092-1784917800-1784917800@www.leonardslatkin.com
SUMMARY:Colorado Music Festival
DESCRIPTION:Njioma Grievous\, violin\nCOPLAND: Rodeo\nJOHN CORIGLIANO: Chaconne for Violin and Orchestra from The Red Violin\nNELSON: Savannah River Holiday\nCINDY MCTEE: Adagio for String Orchestra\nGERSHWIN: An American in Paris
URL:https://www.leonardslatkin.com/schedule/colorado-music-festival-2/
LOCATION:Chautauqua Auditorium\, 900 Baseline Road\, Boulder\, CO\, 80302\, United States
END:VEVENT
BEGIN:VEVENT
DTSTART;TZID=America/New_York:20260729T180000
DTEND;TZID=America/New_York:20260729T180000
DTSTAMP:20260422T055634
CREATED:20260226T155912Z
LAST-MODIFIED:20260226T155912Z
UID:10001099-1785348000-1785348000@www.leonardslatkin.com
SUMMARY:National Repertory Orchestra
DESCRIPTION:CINDY MCTEE: Circuits\nDANIEL SLATKIN: Voyager 130\nRACHMANINOFF: Symphony No. 3
URL:https://www.leonardslatkin.com/schedule/national-repertory-orchestra-2/
LOCATION:Riverwalk Center\, 150 West Adams Avenue\, Breckenridge\, CO\, 80424 \, United States
END:VEVENT
END:VCALENDAR