BEGIN:VCALENDAR
VERSION:2.0
PRODID:-//LEONARD SLATKIN - ECPv6.15.17.1//NONSGML v1.0//EN
CALSCALE:GREGORIAN
METHOD:PUBLISH
X-WR-CALNAME:LEONARD SLATKIN
X-ORIGINAL-URL:https://www.leonardslatkin.com
X-WR-CALDESC:Events for LEONARD SLATKIN
REFRESH-INTERVAL;VALUE=DURATION:PT1H
X-Robots-Tag:noindex
X-PUBLISHED-TTL:PT1H
BEGIN:VTIMEZONE
TZID:America/New_York
BEGIN:DAYLIGHT
TZOFFSETFROM:-0500
TZOFFSETTO:-0400
TZNAME:EDT
DTSTART:20240310T070000
END:DAYLIGHT
BEGIN:STANDARD
TZOFFSETFROM:-0400
TZOFFSETTO:-0500
TZNAME:EST
DTSTART:20241103T060000
END:STANDARD
BEGIN:DAYLIGHT
TZOFFSETFROM:-0500
TZOFFSETTO:-0400
TZNAME:EDT
DTSTART:20250309T070000
END:DAYLIGHT
BEGIN:STANDARD
TZOFFSETFROM:-0400
TZOFFSETTO:-0500
TZNAME:EST
DTSTART:20251102T060000
END:STANDARD
BEGIN:DAYLIGHT
TZOFFSETFROM:-0500
TZOFFSETTO:-0400
TZNAME:EDT
DTSTART:20260308T070000
END:DAYLIGHT
BEGIN:STANDARD
TZOFFSETFROM:-0400
TZOFFSETTO:-0500
TZNAME:EST
DTSTART:20261101T060000
END:STANDARD
END:VTIMEZONE
BEGIN:VEVENT
DTSTART;TZID=America/New_York:20251003T193000
DTEND;TZID=America/New_York:20251003T193000
DTSTAMP:20260421T105618
CREATED:20250925T143126Z
LAST-MODIFIED:20250925T143342Z
UID:10001076-1759519800-1759519800@www.leonardslatkin.com
SUMMARY:Manhattan School of Music Symphony Orchestra
DESCRIPTION:HAILSTORK: Epitaph for a Man Who Dreamed (In Memoriam Martin Luther King\, Jr.) \nBRITTEN: Sinfonia da Requiem\nDVOŘÁK: Symphony No. 7\nLIVE WEBCAST @ 7:30 pm EDT
URL:https://www.leonardslatkin.com/schedule/manhattan-school-of-music-symphony-orchestra-10/
LOCATION:Neidorff-Karpati Hall\, 120 Claremont Avenue\, New York\, NY\, 10027\, United States
GEO:40.8123903;-73.9614817
X-APPLE-STRUCTURED-LOCATION;VALUE=URI;X-ADDRESS=Neidorff-Karpati Hall 120 Claremont Avenue New York NY 10027 United States;X-APPLE-RADIUS=500;X-TITLE=120 Claremont Avenue:geo:-73.9614817,40.8123903
END:VEVENT
BEGIN:VEVENT
DTSTART;TZID=America/New_York:20251011T193000
DTEND;TZID=America/New_York:20251011T193000
DTSTAMP:20260421T105618
CREATED:20250228T204855Z
LAST-MODIFIED:20251009T133405Z
UID:10001051-1760211000-1760211000@www.leonardslatkin.com
SUMMARY:St. Louis Symphony Orchestra
DESCRIPTION:Emanuel Ax\, piano\nLEONARD SLATKIN: Schubertiade (U.S. Premiere)\nMOZART: Piano Concerto No. 25\nELGAR: Symphony No. 1\nLIVE BROADCAST @ 7:30 pm CDT
URL:https://www.leonardslatkin.com/schedule/st-louis-symphony-orchestra-25/
LOCATION:Powell Hall\, 718 North Grand Boulevard\, St. Louis\, MO\,  63103\, United States
GEO:38.6402687;-90.2301333
X-APPLE-STRUCTURED-LOCATION;VALUE=URI;X-ADDRESS=Powell Hall 718 North Grand Boulevard St. Louis MO  63103 United States;X-APPLE-RADIUS=500;X-TITLE=718 North Grand Boulevard:geo:-90.2301333,38.6402687
END:VEVENT
BEGIN:VEVENT
DTSTART;TZID=America/New_York:20251012T150000
DTEND;TZID=America/New_York:20251012T150000
DTSTAMP:20260421T105618
CREATED:20250228T205020Z
LAST-MODIFIED:20250228T205020Z
UID:10001052-1760281200-1760281200@www.leonardslatkin.com
SUMMARY:St. Louis Symphony Orchestra
DESCRIPTION:Emanuel Ax\, piano\nLEONARD SLATKIN: Schubertiade (U.S. Premiere)\nMOZART: Piano Concerto No. 25\nELGAR: Symphony No. 1
URL:https://www.leonardslatkin.com/schedule/st-louis-symphony-orchestra-26/
LOCATION:Powell Hall\, 718 North Grand Boulevard\, St. Louis\, MO\,  63103\, United States
GEO:38.6402687;-90.2301333
X-APPLE-STRUCTURED-LOCATION;VALUE=URI;X-ADDRESS=Powell Hall 718 North Grand Boulevard St. Louis MO  63103 United States;X-APPLE-RADIUS=500;X-TITLE=718 North Grand Boulevard:geo:-90.2301333,38.6402687
END:VEVENT
BEGIN:VEVENT
DTSTART;TZID=America/New_York:20251024T193000
DTEND;TZID=America/New_York:20251024T193000
DTSTAMP:20260421T105618
CREATED:20250915T170240Z
LAST-MODIFIED:20251024T160052Z
UID:10001073-1761334200-1761334200@www.leonardslatkin.com
SUMMARY:USC Thornton Symphony
DESCRIPTION:LEONARD SLATKIN: Schubertiade\nSHOSTAKOVICH: Symphony No. 7\nLIVESTREAM @ 7:30 pm PDT
URL:https://www.leonardslatkin.com/schedule/usc-thornton-symphony/
LOCATION:Bovard Auditorium\, 3551 Trousdale Parkway\, Los Angeles\, CA\, 90089\, United States
END:VEVENT
END:VCALENDAR