BEGIN:VCALENDAR
VERSION:2.0
PRODID:-//LEONARD SLATKIN - ECPv6.15.17.1//NONSGML v1.0//EN
CALSCALE:GREGORIAN
METHOD:PUBLISH
X-ORIGINAL-URL:https://www.leonardslatkin.com
X-WR-CALDESC:Events for LEONARD SLATKIN
REFRESH-INTERVAL;VALUE=DURATION:PT1H
X-Robots-Tag:noindex
X-PUBLISHED-TTL:PT1H
BEGIN:VTIMEZONE
TZID:America/New_York
BEGIN:DAYLIGHT
TZOFFSETFROM:-0500
TZOFFSETTO:-0400
TZNAME:EDT
DTSTART:20240310T070000
END:DAYLIGHT
BEGIN:STANDARD
TZOFFSETFROM:-0400
TZOFFSETTO:-0500
TZNAME:EST
DTSTART:20241103T060000
END:STANDARD
BEGIN:DAYLIGHT
TZOFFSETFROM:-0500
TZOFFSETTO:-0400
TZNAME:EDT
DTSTART:20250309T070000
END:DAYLIGHT
BEGIN:STANDARD
TZOFFSETFROM:-0400
TZOFFSETTO:-0500
TZNAME:EST
DTSTART:20251102T060000
END:STANDARD
BEGIN:DAYLIGHT
TZOFFSETFROM:-0500
TZOFFSETTO:-0400
TZNAME:EDT
DTSTART:20260308T070000
END:DAYLIGHT
BEGIN:STANDARD
TZOFFSETFROM:-0400
TZOFFSETTO:-0500
TZNAME:EST
DTSTART:20261101T060000
END:STANDARD
END:VTIMEZONE
BEGIN:VEVENT
DTSTART;TZID=America/New_York:20250823T193000
DTEND;TZID=America/New_York:20250823T193000
DTSTAMP:20260421T003006
CREATED:20250809T153229Z
LAST-MODIFIED:20250809T153257Z
UID:10001071-1755977400-1755977400@www.leonardslatkin.com
SUMMARY:Missouri River Festival of the Arts
DESCRIPTION:David Halen\, violin\nMegan Yip\, cello\nMOZART: Overture to The Marriage of Figaro\nBRAHMS: Concerto for Violin and Cello\nBEETHOVEN: Symphony No. 7
URL:https://www.leonardslatkin.com/schedule/missouri-river-festival-of-the-arts/
LOCATION:Thespian Hall\, 522 Main Street65233\, Boonville\, MO\, 65233\, United States
END:VEVENT
END:VCALENDAR