BEGIN:VCALENDAR
VERSION:2.0
PRODID:-//LEONARD SLATKIN - ECPv6.15.17.1//NONSGML v1.0//EN
CALSCALE:GREGORIAN
METHOD:PUBLISH
X-ORIGINAL-URL:https://www.leonardslatkin.com
X-WR-CALDESC:Events for LEONARD SLATKIN
REFRESH-INTERVAL;VALUE=DURATION:PT1H
X-Robots-Tag:noindex
X-PUBLISHED-TTL:PT1H
BEGIN:VTIMEZONE
TZID:America/New_York
BEGIN:DAYLIGHT
TZOFFSETFROM:-0500
TZOFFSETTO:-0400
TZNAME:EDT
DTSTART:20240310T070000
END:DAYLIGHT
BEGIN:STANDARD
TZOFFSETFROM:-0400
TZOFFSETTO:-0500
TZNAME:EST
DTSTART:20241103T060000
END:STANDARD
BEGIN:DAYLIGHT
TZOFFSETFROM:-0500
TZOFFSETTO:-0400
TZNAME:EDT
DTSTART:20250309T070000
END:DAYLIGHT
BEGIN:STANDARD
TZOFFSETFROM:-0400
TZOFFSETTO:-0500
TZNAME:EST
DTSTART:20251102T060000
END:STANDARD
BEGIN:DAYLIGHT
TZOFFSETFROM:-0500
TZOFFSETTO:-0400
TZNAME:EDT
DTSTART:20260308T070000
END:DAYLIGHT
BEGIN:STANDARD
TZOFFSETFROM:-0400
TZOFFSETTO:-0500
TZNAME:EST
DTSTART:20261101T060000
END:STANDARD
END:VTIMEZONE
BEGIN:VEVENT
DTSTART;TZID=America/New_York:20250502T200000
DTEND;TZID=America/New_York:20250502T200000
DTSTAMP:20260421T035440
CREATED:20240623T231537Z
LAST-MODIFIED:20241016T111424Z
UID:10001033-1746216000-1746216000@www.leonardslatkin.com
SUMMARY:Orquesta Filarmónica de Gran Canaria
DESCRIPTION:BRAHMS: Tragic Overture\nFERRAN CRUIXENT: Cyborg\nTCHAIKOVSKY: Symphony No. 5
URL:https://www.leonardslatkin.com/schedule/orquesta-filarmonica-de-gran-canaria-6/
LOCATION:Auditorio Alfredo Kraus\, Avda. Principe de Asturias s/n\, Las Palmas de Gran Canaria\, Islas Canarias\, 35010\, Spain
END:VEVENT
BEGIN:VEVENT
DTSTART;TZID=America/New_York:20250507T193000
DTEND;TZID=America/New_York:20250507T193000
DTSTAMP:20260421T035440
CREATED:20241008T170710Z
LAST-MODIFIED:20241008T170710Z
UID:10001043-1746646200-1746646200@www.leonardslatkin.com
SUMMARY:Jerusalem Symphony Orchestra
DESCRIPTION:BEETHOVEN: Egmont Overture\nBEETHOVEN: Symphony No. 8\nBERNSTEIN: Candide Overture\nBARBER: Adagio for Strings\nGERSHWIN: An American in Paris
URL:https://www.leonardslatkin.com/schedule/jerusalem-symphony-orchestra/
LOCATION:Henry Crown Symphony Hall\, Jerusalem Theater\, David Marcus Street 20\, Jerusalem\, Israel
END:VEVENT
BEGIN:VEVENT
DTSTART;TZID=America/New_York:20250508T200000
DTEND;TZID=America/New_York:20250508T200000
DTSTAMP:20260421T035440
CREATED:20241008T170958Z
LAST-MODIFIED:20241008T170958Z
UID:10001044-1746734400-1746734400@www.leonardslatkin.com
SUMMARY:Jerusalem Symphony Orchestra
DESCRIPTION:BEETHOVEN: Egmont Overture\nBEETHOVEN: Symphony No. 8\nBERNSTEIN: Candide Overture\nBARBER: Adagio for Strings\nGERSHWIN: An American in Paris
URL:https://www.leonardslatkin.com/schedule/jerusalem-symphony-orchestra-2/
LOCATION:Herzliya Performing Arts Center\, Jabotinski Street 15\, Herzliya\, 4680008\, Israel
END:VEVENT
END:VCALENDAR