BEGIN:VCALENDAR
VERSION:2.0
PRODID:-//LEONARD SLATKIN - ECPv6.15.17.1//NONSGML v1.0//EN
CALSCALE:GREGORIAN
METHOD:PUBLISH
X-WR-CALNAME:LEONARD SLATKIN
X-ORIGINAL-URL:https://www.leonardslatkin.com
X-WR-CALDESC:Events for LEONARD SLATKIN
REFRESH-INTERVAL;VALUE=DURATION:PT1H
X-Robots-Tag:noindex
X-PUBLISHED-TTL:PT1H
BEGIN:VTIMEZONE
TZID:America/New_York
BEGIN:DAYLIGHT
TZOFFSETFROM:-0500
TZOFFSETTO:-0400
TZNAME:EDT
DTSTART:20230312T070000
END:DAYLIGHT
BEGIN:STANDARD
TZOFFSETFROM:-0400
TZOFFSETTO:-0500
TZNAME:EST
DTSTART:20231105T060000
END:STANDARD
BEGIN:DAYLIGHT
TZOFFSETFROM:-0500
TZOFFSETTO:-0400
TZNAME:EDT
DTSTART:20240310T070000
END:DAYLIGHT
BEGIN:STANDARD
TZOFFSETFROM:-0400
TZOFFSETTO:-0500
TZNAME:EST
DTSTART:20241103T060000
END:STANDARD
BEGIN:DAYLIGHT
TZOFFSETFROM:-0500
TZOFFSETTO:-0400
TZNAME:EDT
DTSTART:20250309T070000
END:DAYLIGHT
BEGIN:STANDARD
TZOFFSETFROM:-0400
TZOFFSETTO:-0500
TZNAME:EST
DTSTART:20251102T060000
END:STANDARD
END:VTIMEZONE
BEGIN:VEVENT
DTSTART;TZID=America/New_York:20241102T200000
DTEND;TZID=America/New_York:20241102T200000
DTSTAMP:20260421T075222
CREATED:20240418T135504Z
LAST-MODIFIED:20240418T135504Z
UID:10001002-1730577600-1730577600@www.leonardslatkin.com
SUMMARY:Detroit Symphony Orchestra
DESCRIPTION:Olga Kern\, piano\nDANIEL SLATKIN: Voyager 130\nRACHMANINOFF: Piano Concerto No. 4\nPROKOFIEV: Symphony No. 5
URL:https://www.leonardslatkin.com/schedule/detroit-symphony-orchestra-123/
LOCATION:Orchestra Hall\, 3711 Woodward Avenue\, Detroit\, MI\, 48201\, United States
GEO:42.3489084;-83.0593353
X-APPLE-STRUCTURED-LOCATION;VALUE=URI;X-ADDRESS=Orchestra Hall 3711 Woodward Avenue Detroit MI 48201 United States;X-APPLE-RADIUS=500;X-TITLE=3711 Woodward Avenue:geo:-83.0593353,42.3489084
END:VEVENT
BEGIN:VEVENT
DTSTART;TZID=America/New_York:20241103T150000
DTEND;TZID=America/New_York:20241103T150000
DTSTAMP:20260421T075222
CREATED:20240418T135645Z
LAST-MODIFIED:20240910T142055Z
UID:10001003-1730646000-1730646000@www.leonardslatkin.com
SUMMARY:Detroit Symphony Orchestra
DESCRIPTION:Olga Kern\, piano\nDANIEL SLATKIN: Voyager 130\nRACHMANINOFF: Piano Concerto No. 4\nPROKOFIEV: Symphony No. 5\nLIVE WEBCAST @ 3:00 pm EST
URL:https://www.leonardslatkin.com/schedule/detroit-symphony-orchestra-124/
LOCATION:Orchestra Hall\, 3711 Woodward Avenue\, Detroit\, MI\, 48201\, United States
GEO:42.3489084;-83.0593353
X-APPLE-STRUCTURED-LOCATION;VALUE=URI;X-ADDRESS=Orchestra Hall 3711 Woodward Avenue Detroit MI 48201 United States;X-APPLE-RADIUS=500;X-TITLE=3711 Woodward Avenue:geo:-83.0593353,42.3489084
END:VEVENT
BEGIN:VEVENT
DTSTART;TZID=America/New_York:20241109T193000
DTEND;TZID=America/New_York:20241109T193000
DTSTAMP:20260421T075222
CREATED:20240418T140815Z
LAST-MODIFIED:20240418T141710Z
UID:10001004-1731180600-1731180600@www.leonardslatkin.com
SUMMARY:Las Vegas Philharmonic
DESCRIPTION:Storm Large\, vocals\nHudson Shad\, vocals\nBERNSTEIN: Candide Overture\nWEILL/BRECHT: The Seven Deadly Sins\nHOVHANESS: Symphony No. 2\, “Mysterious Mountain”\nGERSHWIN: An American in Paris
URL:https://www.leonardslatkin.com/schedule/las-vegas-philharmonic/
LOCATION:Smith Center\, 361 Symphony Park Avenue\, Las Vegas\, NV\, 89106\, United States
END:VEVENT
BEGIN:VEVENT
DTSTART;TZID=America/New_York:20241114T190000
DTEND;TZID=America/New_York:20241114T190000
DTSTAMP:20260421T075222
CREATED:20240418T142013Z
LAST-MODIFIED:20240418T142013Z
UID:10001005-1731610800-1731610800@www.leonardslatkin.com
SUMMARY:National Symphony Orchestra
DESCRIPTION:Emanuel Ax\, piano\nCINDY MCTEE: Double Play\nMOZART: Piano Concerto No. 20\nWALTON: Symphony No. 1
URL:https://www.leonardslatkin.com/schedule/national-symphony-orchestra-6/
LOCATION:The John F. Kennedy Center for the Performing Arts\, 2700 F Street\, NW\, Washington\, DC\, 20566\, United States
GEO:38.8961514;-77.0554468
X-APPLE-STRUCTURED-LOCATION;VALUE=URI;X-ADDRESS=The John F. Kennedy Center for the Performing Arts 2700 F Street NW Washington DC 20566 United States;X-APPLE-RADIUS=500;X-TITLE=2700 F Street\, NW:geo:-77.0554468,38.8961514
END:VEVENT
BEGIN:VEVENT
DTSTART;TZID=America/New_York:20241116T200000
DTEND;TZID=America/New_York:20241116T200000
DTSTAMP:20260421T075222
CREATED:20240418T142150Z
LAST-MODIFIED:20240418T142150Z
UID:10001006-1731787200-1731787200@www.leonardslatkin.com
SUMMARY:National Symphony Orchestra
DESCRIPTION:Emanuel Ax\, piano\nCINDY MCTEE: Double Play\nMOZART: Piano Concerto No. 20\nWALTON: Symphony No. 1
URL:https://www.leonardslatkin.com/schedule/national-symphony-orchestra-7/
LOCATION:The John F. Kennedy Center for the Performing Arts\, 2700 F Street\, NW\, Washington\, DC\, 20566\, United States
GEO:38.8961514;-77.0554468
X-APPLE-STRUCTURED-LOCATION;VALUE=URI;X-ADDRESS=The John F. Kennedy Center for the Performing Arts 2700 F Street NW Washington DC 20566 United States;X-APPLE-RADIUS=500;X-TITLE=2700 F Street\, NW:geo:-77.0554468,38.8961514
END:VEVENT
BEGIN:VEVENT
DTSTART;TZID=America/New_York:20241117T150000
DTEND;TZID=America/New_York:20241117T150000
DTSTAMP:20260421T075222
CREATED:20240418T142359Z
LAST-MODIFIED:20240418T142359Z
UID:10001007-1731855600-1731855600@www.leonardslatkin.com
SUMMARY:National Symphony Orchestra
DESCRIPTION:Emanuel Ax\, piano\nCINDY MCTEE: Double Play\nMOZART: Piano Concerto No. 20\nWALTON: Symphony No. 1
URL:https://www.leonardslatkin.com/schedule/national-symphony-orchestra-8/
LOCATION:The John F. Kennedy Center for the Performing Arts\, 2700 F Street\, NW\, Washington\, DC\, 20566\, United States
GEO:38.8961514;-77.0554468
X-APPLE-STRUCTURED-LOCATION;VALUE=URI;X-ADDRESS=The John F. Kennedy Center for the Performing Arts 2700 F Street NW Washington DC 20566 United States;X-APPLE-RADIUS=500;X-TITLE=2700 F Street\, NW:geo:-77.0554468,38.8961514
END:VEVENT
END:VCALENDAR