BEGIN:VCALENDAR
VERSION:2.0
PRODID:-//LEONARD SLATKIN - ECPv6.15.17.1//NONSGML v1.0//EN
CALSCALE:GREGORIAN
METHOD:PUBLISH
X-ORIGINAL-URL:https://www.leonardslatkin.com
X-WR-CALDESC:Events for LEONARD SLATKIN
REFRESH-INTERVAL;VALUE=DURATION:PT1H
X-Robots-Tag:noindex
X-PUBLISHED-TTL:PT1H
BEGIN:VTIMEZONE
TZID:America/New_York
BEGIN:DAYLIGHT
TZOFFSETFROM:-0500
TZOFFSETTO:-0400
TZNAME:EDT
DTSTART:20220313T070000
END:DAYLIGHT
BEGIN:STANDARD
TZOFFSETFROM:-0400
TZOFFSETTO:-0500
TZNAME:EST
DTSTART:20221106T060000
END:STANDARD
BEGIN:DAYLIGHT
TZOFFSETFROM:-0500
TZOFFSETTO:-0400
TZNAME:EDT
DTSTART:20230312T070000
END:DAYLIGHT
BEGIN:STANDARD
TZOFFSETFROM:-0400
TZOFFSETTO:-0500
TZNAME:EST
DTSTART:20231105T060000
END:STANDARD
BEGIN:DAYLIGHT
TZOFFSETFROM:-0500
TZOFFSETTO:-0400
TZNAME:EDT
DTSTART:20240310T070000
END:DAYLIGHT
BEGIN:STANDARD
TZOFFSETFROM:-0400
TZOFFSETTO:-0500
TZNAME:EST
DTSTART:20241103T060000
END:STANDARD
END:VTIMEZONE
BEGIN:VEVENT
DTSTART;TZID=America/New_York:20231102T193000
DTEND;TZID=America/New_York:20231102T193000
DTSTAMP:20260425T214254
CREATED:20230706T181654Z
LAST-MODIFIED:20230706T181654Z
UID:10000978-1698953400-1698953400@www.leonardslatkin.com
SUMMARY:Orquesta Sinfónica de Radio Televisión Española
DESCRIPTION:Joaquín Achúcarro\, piano\nCINDY MCTEE: Circuits\nCHOPIN: Piano Concerto No. 2\nSIBELIUS: Symphony No. 1
URL:https://www.leonardslatkin.com/schedule/orquesta-sinfonica-de-radio-television-espanola/
LOCATION:Teatro Monumental\, Calle de Atocha\, 65\, Madrid\, 28012\, Spain
END:VEVENT
BEGIN:VEVENT
DTSTART;TZID=America/New_York:20231103T193000
DTEND;TZID=America/New_York:20231103T193000
DTSTAMP:20260425T214254
CREATED:20230706T181733Z
LAST-MODIFIED:20231101T171806Z
UID:10000979-1699039800-1699039800@www.leonardslatkin.com
SUMMARY:Orquesta Sinfónica de Radio Televisión Española
DESCRIPTION:Joaquín Achúcarro\, piano\nCINDY MCTEE: Circuits\nCHOPIN: Piano Concerto No. 2\nSIBELIUS: Symphony No. 1\nLIVE RADIO BROADCAST @ 3:00 pm EDT
URL:https://www.leonardslatkin.com/schedule/orquesta-sinfonica-de-radio-television-espanola-2/
LOCATION:Teatro Monumental\, Calle de Atocha\, 65\, Madrid\, 28012\, Spain
END:VEVENT
BEGIN:VEVENT
DTSTART;TZID=America/New_York:20231110T193000
DTEND;TZID=America/New_York:20231110T193000
DTSTAMP:20260425T214254
CREATED:20230706T182931Z
LAST-MODIFIED:20230822T112909Z
UID:10000980-1699644600-1699644600@www.leonardslatkin.com
SUMMARY:Polish National Radio Symphony Orchestra
DESCRIPTION:Jean-Efflam Bavouzet\, piano\nPURCELL/arr. Britten: Chaconne in G Minor\nPURCELL/arr. Barbirolli: Suite for Strings\, Flutes and Horns\nBARTÓK: Piano Concerto No. 3\nHOVHANESS: Symphony No. 2\, “Mysterious Mountain”\nGERSHWIN: An American in Paris
URL:https://www.leonardslatkin.com/schedule/polish-national-radio-symphony-orchestra-4/
LOCATION:NOSPR Concert Hall\, plac Wojciecha Kilara 1\, Katowice\, 40-202\, Poland
GEO:50.263918;19.028522
X-APPLE-STRUCTURED-LOCATION;VALUE=URI;X-ADDRESS=NOSPR Concert Hall plac Wojciecha Kilara 1 Katowice 40-202 Poland;X-APPLE-RADIUS=500;X-TITLE=plac Wojciecha Kilara 1:geo:19.028522,50.263918
END:VEVENT
BEGIN:VEVENT
DTSTART;TZID=America/New_York:20231117T193000
DTEND;TZID=America/New_York:20231117T193000
DTSTAMP:20260425T214254
CREATED:20230821T200724Z
LAST-MODIFIED:20231116T174354Z
UID:10000987-1700249400-1700249400@www.leonardslatkin.com
SUMMARY:National Symphony Orchestra (Ireland)
DESCRIPTION:Wayne Marshall\, piano \nBARBER: Essay for Orchestra No. 2\nGERSHWIN: Piano Concerto in F Major\nCOPLAND: Symphony No. 3\nLIVE BROADCAST @ 7:30 pm GMT/2:30 pm EST
URL:https://www.leonardslatkin.com/schedule/national-symphony-orchestra-ireland-5/
LOCATION:National Concert Hall\, Earlsfort Terrace\, Saint Kevin's\, Dublin\, D02 N527\, Ireland
GEO:53.3345281;-6.2582318
X-APPLE-STRUCTURED-LOCATION;VALUE=URI;X-ADDRESS=National Concert Hall Earlsfort Terrace Saint Kevin's Dublin D02 N527 Ireland;X-APPLE-RADIUS=500;X-TITLE=Earlsfort Terrace\, Saint Kevin's:geo:-6.2582318,53.3345281
END:VEVENT
BEGIN:VEVENT
DTSTART;TZID=America/New_York:20231124T193000
DTEND;TZID=America/New_York:20231124T193000
DTSTAMP:20260425T214254
CREATED:20230821T201045Z
LAST-MODIFIED:20231116T174259Z
UID:10000988-1700854200-1700854200@www.leonardslatkin.com
SUMMARY:National Symphony Orchestra (Ireland)
DESCRIPTION:Katherine Broderick\, soprano\nMark Stone\, baritone\nNational Symphony Chorus and RIAM Chorale\nDavid Young\, chorus director NSC\nBlanaid Murphy\, musical director RIAM Chorale \nMENDELSSOHN: Calm Sea and Prosperous Voyage Overture\nBRITTEN: Four Sea Interludes\nVAUGHAN WILLIAMS: A Sea Symphony \nLIVE BROADCAST @ 7:30 pm GMT/2:30 pm EST
URL:https://www.leonardslatkin.com/schedule/national-symphony-orchestra-ireland-6/
LOCATION:National Concert Hall\, Earlsfort Terrace\, Saint Kevin's\, Dublin\, D02 N527\, Ireland
GEO:53.3345281;-6.2582318
X-APPLE-STRUCTURED-LOCATION;VALUE=URI;X-ADDRESS=National Concert Hall Earlsfort Terrace Saint Kevin's Dublin D02 N527 Ireland;X-APPLE-RADIUS=500;X-TITLE=Earlsfort Terrace\, Saint Kevin's:geo:-6.2582318,53.3345281
END:VEVENT
BEGIN:VEVENT
DTSTART;TZID=America/New_York:20231125T123000
DTEND;TZID=America/New_York:20231125T123000
DTSTAMP:20260425T214254
CREATED:20230821T201326Z
LAST-MODIFIED:20230821T201326Z
UID:10000989-1700915400-1700915400@www.leonardslatkin.com
SUMMARY:National Symphony Orchestra (Ireland)
DESCRIPTION:Symphony Short\, Children’s Concert  \nJessie Grimes\, animateur \nMENDELSSOHN: Calm Sea and Prosperous Voyage Overture\nBRITTEN: Four Sea Interludes
URL:https://www.leonardslatkin.com/schedule/national-symphony-orchestra-ireland-7/
LOCATION:National Concert Hall\, Earlsfort Terrace\, Saint Kevin's\, Dublin\, D02 N527\, Ireland
GEO:53.3345281;-6.2582318
X-APPLE-STRUCTURED-LOCATION;VALUE=URI;X-ADDRESS=National Concert Hall Earlsfort Terrace Saint Kevin's Dublin D02 N527 Ireland;X-APPLE-RADIUS=500;X-TITLE=Earlsfort Terrace\, Saint Kevin's:geo:-6.2582318,53.3345281
END:VEVENT
END:VCALENDAR