BEGIN:VCALENDAR
VERSION:2.0
PRODID:-//LEONARD SLATKIN - ECPv6.15.17.1//NONSGML v1.0//EN
CALSCALE:GREGORIAN
METHOD:PUBLISH
X-ORIGINAL-URL:https://www.leonardslatkin.com
X-WR-CALDESC:Events for LEONARD SLATKIN
REFRESH-INTERVAL;VALUE=DURATION:PT1H
X-Robots-Tag:noindex
X-PUBLISHED-TTL:PT1H
BEGIN:VTIMEZONE
TZID:America/New_York
BEGIN:DAYLIGHT
TZOFFSETFROM:-0500
TZOFFSETTO:-0400
TZNAME:EDT
DTSTART:20210314T070000
END:DAYLIGHT
BEGIN:STANDARD
TZOFFSETFROM:-0400
TZOFFSETTO:-0500
TZNAME:EST
DTSTART:20211107T060000
END:STANDARD
BEGIN:DAYLIGHT
TZOFFSETFROM:-0500
TZOFFSETTO:-0400
TZNAME:EDT
DTSTART:20220313T070000
END:DAYLIGHT
BEGIN:STANDARD
TZOFFSETFROM:-0400
TZOFFSETTO:-0500
TZNAME:EST
DTSTART:20221106T060000
END:STANDARD
BEGIN:DAYLIGHT
TZOFFSETFROM:-0500
TZOFFSETTO:-0400
TZNAME:EDT
DTSTART:20230312T070000
END:DAYLIGHT
BEGIN:STANDARD
TZOFFSETFROM:-0400
TZOFFSETTO:-0500
TZNAME:EST
DTSTART:20231105T060000
END:STANDARD
END:VTIMEZONE
BEGIN:VEVENT
DTSTART;TZID=America/New_York:20220506T183000
DTEND;TZID=America/New_York:20220506T183000
DTSTAMP:20260424T193521
CREATED:20220419T144916Z
LAST-MODIFIED:20220419T145301Z
UID:10000935-1651861800-1651861800@www.leonardslatkin.com
SUMMARY:Rhode Island Philharmonic
DESCRIPTION:Talise Trevigne\, soprano\nNina Yoshida Nelsen\, mezzo-soprano\nColin Ainsworth\, tenor\nJohn Relyea\, bass\nProvidence Singers\, chorus\nBEETHOVEN: Symphony No. 9
URL:https://www.leonardslatkin.com/schedule/rhode-island-philharmonic-3/
LOCATION:Veterans Memorial Auditorium (The VETS)\, 1 Ave of the Arts\, Providence\, RI\, 02903\, United States
END:VEVENT
BEGIN:VEVENT
DTSTART;TZID=America/New_York:20220507T200000
DTEND;TZID=America/New_York:20220507T200000
DTSTAMP:20260424T193521
CREATED:20220419T144706Z
LAST-MODIFIED:20220419T145337Z
UID:10000934-1651953600-1651953600@www.leonardslatkin.com
SUMMARY:Rhode Island Philharmonic
DESCRIPTION:Talise Trevigne\, soprano\nNina Yoshida Nelsen\, mezzo-soprano\nColin Ainsworth\, tenor\nJohn Relyea\, bass\nProvidence Singers\, chorus\nBARBER: Adagio for Strings\nBRAHMS: A German Requiem\, Movement IV (How Lovely Is Thy Dwelling Place)\nBEETHOVEN: Symphony No. 9
URL:https://www.leonardslatkin.com/schedule/rhode-island-philharmonic-2/
LOCATION:Veterans Memorial Auditorium (The VETS)\, 1 Ave of the Arts\, Providence\, RI\, 02903\, United States
END:VEVENT
BEGIN:VEVENT
DTSTART;TZID=America/New_York:20220509T193000
DTEND;TZID=America/New_York:20220509T193000
DTSTAMP:20260424T193521
CREATED:20220411T215817Z
LAST-MODIFIED:20220419T145241Z
UID:10000932-1652124600-1652124600@www.leonardslatkin.com
SUMMARY:Chamber Music Society of St. Louis
DESCRIPTION:MARTINU: La Revue du Cuisine\nNIELSEN: Little Suite for Strings\nSTRAVINSKY: L’histoire du Soldat Suite (A Soldier’s Tale)
URL:https://www.leonardslatkin.com/schedule/chamber-music-society-of-st-louis-2/
LOCATION:The Sheldon\, 3648 Washington Boulevard\, St. Louis\, MO\, 63108\, United States
GEO:38.6398481;-90.2334442
X-APPLE-STRUCTURED-LOCATION;VALUE=URI;X-ADDRESS=The Sheldon 3648 Washington Boulevard St. Louis MO 63108 United States;X-APPLE-RADIUS=500;X-TITLE=3648 Washington Boulevard:geo:-90.2334442,38.6398481
END:VEVENT
BEGIN:VEVENT
DTSTART;TZID=America/New_York:20220510T193000
DTEND;TZID=America/New_York:20220510T193000
DTSTAMP:20260424T193521
CREATED:20220411T215925Z
LAST-MODIFIED:20220419T145221Z
UID:10000933-1652211000-1652211000@www.leonardslatkin.com
SUMMARY:Chamber Music Society of St. Louis
DESCRIPTION:MARTINU: La Revue du Cuisine\nNIELSEN: Little Suite for Strings\nSTRAVINSKY: L’histoire du Soldat Suite (A Soldier’s Tale)
URL:https://www.leonardslatkin.com/schedule/chamber-music-society-of-st-louis-3/
LOCATION:The Sheldon\, 3648 Washington Boulevard\, St. Louis\, MO\, 63108\, United States
GEO:38.6398481;-90.2334442
X-APPLE-STRUCTURED-LOCATION;VALUE=URI;X-ADDRESS=The Sheldon 3648 Washington Boulevard St. Louis MO 63108 United States;X-APPLE-RADIUS=500;X-TITLE=3648 Washington Boulevard:geo:-90.2334442,38.6398481
END:VEVENT
BEGIN:VEVENT
DTSTART;TZID=America/New_York:20220520T200000
DTEND;TZID=America/New_York:20220520T200000
DTSTAMP:20260424T193521
CREATED:20220310T160552Z
LAST-MODIFIED:20220519T172632Z
UID:10000931-1653076800-1653076800@www.leonardslatkin.com
SUMMARY:Oakland Symphony
DESCRIPTION:CINDY MCTEE: Circuits\nHOVHANESS: Symphony No. 2\, “Mysterious Mountain”\nELGAR: Enigma Variations
URL:https://www.leonardslatkin.com/schedule/oakland-symphony/
LOCATION:Paramount Theatre\, 2025 Broadway\, Oakland\, CA\, 94612\, United States
END:VEVENT
END:VCALENDAR