BEGIN:VCALENDAR
VERSION:2.0
PRODID:-//LEONARD SLATKIN - ECPv6.15.17.1//NONSGML v1.0//EN
CALSCALE:GREGORIAN
METHOD:PUBLISH
X-ORIGINAL-URL:https://www.leonardslatkin.com
X-WR-CALDESC:Events for LEONARD SLATKIN
REFRESH-INTERVAL;VALUE=DURATION:PT1H
X-Robots-Tag:noindex
X-PUBLISHED-TTL:PT1H
BEGIN:VTIMEZONE
TZID:America/New_York
BEGIN:DAYLIGHT
TZOFFSETFROM:-0500
TZOFFSETTO:-0400
TZNAME:EDT
DTSTART:20210314T070000
END:DAYLIGHT
BEGIN:STANDARD
TZOFFSETFROM:-0400
TZOFFSETTO:-0500
TZNAME:EST
DTSTART:20211107T060000
END:STANDARD
BEGIN:DAYLIGHT
TZOFFSETFROM:-0500
TZOFFSETTO:-0400
TZNAME:EDT
DTSTART:20220313T070000
END:DAYLIGHT
BEGIN:STANDARD
TZOFFSETFROM:-0400
TZOFFSETTO:-0500
TZNAME:EST
DTSTART:20221106T060000
END:STANDARD
BEGIN:DAYLIGHT
TZOFFSETFROM:-0500
TZOFFSETTO:-0400
TZNAME:EDT
DTSTART:20230312T070000
END:DAYLIGHT
BEGIN:STANDARD
TZOFFSETFROM:-0400
TZOFFSETTO:-0500
TZNAME:EST
DTSTART:20231105T060000
END:STANDARD
END:VTIMEZONE
BEGIN:VEVENT
DTSTART;TZID=America/New_York:20220401T193000
DTEND;TZID=America/New_York:20220401T193000
DTSTAMP:20260424T160722
CREATED:20220128T195018Z
LAST-MODIFIED:20220321T145840Z
UID:10000929-1648841400-1648841400@www.leonardslatkin.com
SUMMARY:National Symphony Orchestra (Ireland)
DESCRIPTION:Lise de la Salle\, piano\nMILHAUD: La Creation du Monde\nRAVEL: Piano Concerto in G\nWEILL: Suite from The Three Penny Opera\nGERSHWIN: An American in Paris\nLIVE WEBCAST @ 2:30 pm EDT
URL:https://www.leonardslatkin.com/schedule/national-symphony-orchestra-ireland-2/
LOCATION:National Concert Hall\, Earlsfort Terrace\, Saint Kevin's\, Dublin\, D02 N527\, Ireland
GEO:53.3345281;-6.2582318
X-APPLE-STRUCTURED-LOCATION;VALUE=URI;X-ADDRESS=National Concert Hall Earlsfort Terrace Saint Kevin's Dublin D02 N527 Ireland;X-APPLE-RADIUS=500;X-TITLE=Earlsfort Terrace\, Saint Kevin's:geo:-6.2582318,53.3345281
END:VEVENT
BEGIN:VEVENT
DTSTART;TZID=America/New_York:20220408T200000
DTEND;TZID=America/New_York:20220408T200000
DTSTAMP:20260424T160722
CREATED:20211231T141933Z
LAST-MODIFIED:20211231T141933Z
UID:10000927-1649448000-1649448000@www.leonardslatkin.com
SUMMARY:Orquesta Filarmonica de Gran Canaria
DESCRIPTION:Gidon Kremer\, violin\nBARBER: Adagio for Strings\nWEINBERG: Concerto for Violin\nFRANCK: Symphony in D minor
URL:https://www.leonardslatkin.com/schedule/orquesta-filarmonica-de-gran-canaria/
LOCATION:Auditorio Alfredo Kraus\, Avda. Principe de Asturias s/n\, Las Palmas de Gran Canaria\, Islas Canarias\, 35010\, Spain
END:VEVENT
BEGIN:VEVENT
DTSTART;TZID=America/New_York:20220423T150000
DTEND;TZID=America/New_York:20220423T150000
DTSTAMP:20260424T160722
CREATED:20220310T155624Z
LAST-MODIFIED:20220310T155624Z
UID:10000930-1650726000-1650726000@www.leonardslatkin.com
SUMMARY:Hiroshima Symphony Orchestra
DESCRIPTION:MAHLER: Symphony No. 6\, “Tragic”
URL:https://www.leonardslatkin.com/schedule/hiroshima-symphony-orchestra/
LOCATION:Hiroshima Bunka Gakuen HBG Hall\, 3-3 Kakomachi\, Naka Ward\, Hiroshima\, 730-8787\, Japan
END:VEVENT
END:VCALENDAR