BEGIN:VCALENDAR
VERSION:2.0
PRODID:-//LEONARD SLATKIN - ECPv6.15.17.1//NONSGML v1.0//EN
CALSCALE:GREGORIAN
METHOD:PUBLISH
X-WR-CALNAME:LEONARD SLATKIN
X-ORIGINAL-URL:https://www.leonardslatkin.com
X-WR-CALDESC:Events for LEONARD SLATKIN
REFRESH-INTERVAL;VALUE=DURATION:PT1H
X-Robots-Tag:noindex
X-PUBLISHED-TTL:PT1H
BEGIN:VTIMEZONE
TZID:America/New_York
BEGIN:DAYLIGHT
TZOFFSETFROM:-0500
TZOFFSETTO:-0400
TZNAME:EDT
DTSTART:20210314T070000
END:DAYLIGHT
BEGIN:STANDARD
TZOFFSETFROM:-0400
TZOFFSETTO:-0500
TZNAME:EST
DTSTART:20211107T060000
END:STANDARD
BEGIN:DAYLIGHT
TZOFFSETFROM:-0500
TZOFFSETTO:-0400
TZNAME:EDT
DTSTART:20220313T070000
END:DAYLIGHT
BEGIN:STANDARD
TZOFFSETFROM:-0400
TZOFFSETTO:-0500
TZNAME:EST
DTSTART:20221106T060000
END:STANDARD
BEGIN:DAYLIGHT
TZOFFSETFROM:-0500
TZOFFSETTO:-0400
TZNAME:EDT
DTSTART:20230312T070000
END:DAYLIGHT
BEGIN:STANDARD
TZOFFSETFROM:-0400
TZOFFSETTO:-0500
TZNAME:EST
DTSTART:20231105T060000
END:STANDARD
END:VTIMEZONE
BEGIN:VEVENT
DTSTART;TZID=America/New_York:20220302T193000
DTEND;TZID=America/New_York:20220302T193000
DTSTAMP:20260425T080000
CREATED:20210707T193625Z
LAST-MODIFIED:20220126T004716Z
UID:10000916-1646249400-1646249400@www.leonardslatkin.com
SUMMARY:Orquesta de València
DESCRIPTION:George Li\, piano\nFERRAN CRUIXENT: Cyborg\nRAVEL: Piano Concerto in G Major\nELGAR: Enigma Variations
URL:https://www.leonardslatkin.com/schedule/orquesta-de-valencia-2/
LOCATION:Palau de la Música de València\, Paseo de la Alameda No. 30\, Valencia\, 46023\, Spain
END:VEVENT
BEGIN:VEVENT
DTSTART;TZID=America/New_York:20220310T193000
DTEND;TZID=America/New_York:20220310T193000
DTSTAMP:20260425T080000
CREATED:20210707T194523Z
LAST-MODIFIED:20220310T154817Z
UID:10000917-1646940600-1646940600@www.leonardslatkin.com
SUMMARY:Bilbao Orkestra Sinfonikoa
DESCRIPTION:Miren Urbieta\, soprano\nIsabelle Druet\, mezzo-soprano\nSociedad Coral de Bilbao\, choir\nRAVEL: “Kaddisch” from Deux mélodies hébraïques\nMAHLER: Symphony No. 2\, “Resurrection”\nLIVE WEBCAST @ 1:15 pm EST
URL:https://www.leonardslatkin.com/schedule/bilbao-orkestra-sinfonikoa/
LOCATION:Palacio Euskalduna\, Abandoibarra Etorbidea\, 4\, Bilbao\, Bizkaia\, 48011\, Spain
END:VEVENT
BEGIN:VEVENT
DTSTART;TZID=America/New_York:20220311T193000
DTEND;TZID=America/New_York:20220311T193000
DTSTAMP:20260425T080000
CREATED:20210707T194703Z
LAST-MODIFIED:20220310T154723Z
UID:10000918-1647027000-1647027000@www.leonardslatkin.com
SUMMARY:Bilbao Orkestra Sinfonikoa
DESCRIPTION:Miren Urbieta\, soprano\nIsabelle Druet\, mezzo-soprano\nSociedad Coral de Bilbao\, choir\nRAVEL: “Kaddisch” from Deux mélodies hébraïques\nMAHLER: Symphony No. 2\, “Resurrection”
URL:https://www.leonardslatkin.com/schedule/bilbao-orkestra-sinfonikoa-2/
LOCATION:Palacio Euskalduna\, Abandoibarra Etorbidea\, 4\, Bilbao\, Bizkaia\, 48011\, Spain
END:VEVENT
BEGIN:VEVENT
DTSTART;TZID=America/New_York:20220325T193000
DTEND;TZID=America/New_York:20220325T193000
DTSTAMP:20260425T080000
CREATED:20220128T194542Z
LAST-MODIFIED:20220321T145923Z
UID:10000928-1648236600-1648236600@www.leonardslatkin.com
SUMMARY:National Symphony Orchestra (Ireland)
DESCRIPTION:Ailish Tynan\, soprano\nSCHUBERT/arr. Brahms: Ellens zweiter Gesang\nBRAHMS/arr. Slatkin Brahmsiana\nMAHLER: Symphony No. 4\nLIVE WEBCAST @ 3:30 pm EDT
URL:https://www.leonardslatkin.com/schedule/national-symphony-orchestra-ireland/
LOCATION:National Concert Hall\, Earlsfort Terrace\, Saint Kevin's\, Dublin\, D02 N527\, Ireland
GEO:53.3345281;-6.2582318
X-APPLE-STRUCTURED-LOCATION;VALUE=URI;X-ADDRESS=National Concert Hall Earlsfort Terrace Saint Kevin's Dublin D02 N527 Ireland;X-APPLE-RADIUS=500;X-TITLE=Earlsfort Terrace\, Saint Kevin's:geo:-6.2582318,53.3345281
END:VEVENT
END:VCALENDAR