BEGIN:VCALENDAR
VERSION:2.0
PRODID:-//LEONARD SLATKIN - ECPv6.15.17.1//NONSGML v1.0//EN
CALSCALE:GREGORIAN
METHOD:PUBLISH
X-ORIGINAL-URL:https://www.leonardslatkin.com
X-WR-CALDESC:Events for LEONARD SLATKIN
REFRESH-INTERVAL;VALUE=DURATION:PT1H
X-Robots-Tag:noindex
X-PUBLISHED-TTL:PT1H
BEGIN:VTIMEZONE
TZID:America/New_York
BEGIN:DAYLIGHT
TZOFFSETFROM:-0500
TZOFFSETTO:-0400
TZNAME:EDT
DTSTART:20210314T070000
END:DAYLIGHT
BEGIN:STANDARD
TZOFFSETFROM:-0400
TZOFFSETTO:-0500
TZNAME:EST
DTSTART:20211107T060000
END:STANDARD
BEGIN:DAYLIGHT
TZOFFSETFROM:-0500
TZOFFSETTO:-0400
TZNAME:EDT
DTSTART:20220313T070000
END:DAYLIGHT
BEGIN:STANDARD
TZOFFSETFROM:-0400
TZOFFSETTO:-0500
TZNAME:EST
DTSTART:20221106T060000
END:STANDARD
BEGIN:DAYLIGHT
TZOFFSETFROM:-0500
TZOFFSETTO:-0400
TZNAME:EDT
DTSTART:20230312T070000
END:DAYLIGHT
BEGIN:STANDARD
TZOFFSETFROM:-0400
TZOFFSETTO:-0500
TZNAME:EST
DTSTART:20231105T060000
END:STANDARD
END:VTIMEZONE
BEGIN:VEVENT
DTSTART;TZID=America/New_York:20220211T193000
DTEND;TZID=America/New_York:20220211T193000
DTSTAMP:20260424T112921
CREATED:20210707T192752Z
LAST-MODIFIED:20220205T220455Z
UID:10000915-1644607800-1644607800@www.leonardslatkin.com
SUMMARY:Manhattan School of Music Symphony Orchestra
DESCRIPTION:TOSHIO HOSOKAWA: Blossoming II\nLEES: Concerto for String Quartet and Orchestra\nLUTOSŁAWSKI: Concerto for Orchestra\nLIVE WEBCAST @ 7:30 pm EST
URL:https://www.leonardslatkin.com/schedule/manhattan-school-of-music-symphony-orchestra-4/
LOCATION:Neidorff-Karpati Hall\, 120 Claremont Avenue\, New York\, NY\, 10027\, United States
GEO:40.8123903;-73.9614817
X-APPLE-STRUCTURED-LOCATION;VALUE=URI;X-ADDRESS=Neidorff-Karpati Hall 120 Claremont Avenue New York NY 10027 United States;X-APPLE-RADIUS=500;X-TITLE=120 Claremont Avenue:geo:-73.9614817,40.8123903
END:VEVENT
BEGIN:VEVENT
DTSTART;TZID=America/New_York:20220224T193000
DTEND;TZID=America/New_York:20220224T193000
DTSTAMP:20260424T112921
CREATED:20211231T140306Z
LAST-MODIFIED:20220128T195320Z
UID:10000925-1645731000-1645731000@www.leonardslatkin.com
SUMMARY:Orquesta Sinfónica de Castilla y León
DESCRIPTION:BERNSTEIN: Candide Overture\nBARBER: Adagio for Strings\nCOPLAND: Suite from Appalachian Spring \nDVOŘÁK: Symphony No. 8
URL:https://www.leonardslatkin.com/schedule/orquesta-sinfonica-de-castilla-y-leon-3/
LOCATION:Miguel Delibes Cultural Center\, 2 Avenida del Monasterio de Nuestra Señora del Prado\, Valladolid\, 47015\, Spain
END:VEVENT
BEGIN:VEVENT
DTSTART;TZID=America/New_York:20220225T193000
DTEND;TZID=America/New_York:20220225T193000
DTSTAMP:20260424T112921
CREATED:20211231T140359Z
LAST-MODIFIED:20220128T195351Z
UID:10000926-1645817400-1645817400@www.leonardslatkin.com
SUMMARY:Orquesta Sinfónica de Castilla y León
DESCRIPTION:BERNSTEIN: Candide Overture\nBARBER: Adagio for Strings\nCOPLAND: Suite from Appalachian Spring\nDVOŘÁK: Symphony No. 8
URL:https://www.leonardslatkin.com/schedule/orquesta-sinfonica-de-castilla-y-leon-4/
LOCATION:Miguel Delibes Cultural Center\, 2 Avenida del Monasterio de Nuestra Señora del Prado\, Valladolid\, 47015\, Spain
END:VEVENT
END:VCALENDAR