BEGIN:VCALENDAR
VERSION:2.0
PRODID:-//LEONARD SLATKIN - ECPv6.15.17.1//NONSGML v1.0//EN
CALSCALE:GREGORIAN
METHOD:PUBLISH
X-ORIGINAL-URL:https://www.leonardslatkin.com
X-WR-CALDESC:Events for LEONARD SLATKIN
REFRESH-INTERVAL;VALUE=DURATION:PT1H
X-Robots-Tag:noindex
X-PUBLISHED-TTL:PT1H
BEGIN:VTIMEZONE
TZID:America/New_York
BEGIN:DAYLIGHT
TZOFFSETFROM:-0500
TZOFFSETTO:-0400
TZNAME:EDT
DTSTART:20200308T070000
END:DAYLIGHT
BEGIN:STANDARD
TZOFFSETFROM:-0400
TZOFFSETTO:-0500
TZNAME:EST
DTSTART:20201101T060000
END:STANDARD
BEGIN:DAYLIGHT
TZOFFSETFROM:-0500
TZOFFSETTO:-0400
TZNAME:EDT
DTSTART:20210314T070000
END:DAYLIGHT
BEGIN:STANDARD
TZOFFSETFROM:-0400
TZOFFSETTO:-0500
TZNAME:EST
DTSTART:20211107T060000
END:STANDARD
BEGIN:DAYLIGHT
TZOFFSETFROM:-0500
TZOFFSETTO:-0400
TZNAME:EDT
DTSTART:20220313T070000
END:DAYLIGHT
BEGIN:STANDARD
TZOFFSETFROM:-0400
TZOFFSETTO:-0500
TZNAME:EST
DTSTART:20221106T060000
END:STANDARD
END:VTIMEZONE
BEGIN:VEVENT
DTSTART;TZID=America/New_York:20210602T200000
DTEND;TZID=America/New_York:20210602T200000
DTSTAMP:20260425T093828
CREATED:20210330T151829Z
LAST-MODIFIED:20210330T151833Z
UID:10000887-1622664000-1622664000@www.leonardslatkin.com
SUMMARY:Opera Theatre of Saint Louis
DESCRIPTION:Seán Curran\, Stage Director\nLevi Hernandez\, Gianni Schicchi\nJoshua Blue\, Rinuccio\nElena Villalónl\, Lauretta\nLa’Shelle Allen\, Zita\nJermaine Smith\, Gherardo\nMeghan Kasanders\, Nella\nCalvin Griffin\, Simone\nPUCCINI: Gianni Schicchi
URL:https://www.leonardslatkin.com/schedule/opera-theatre-of-saint-louis-3/
LOCATION:Loretto-Hilton Center at Webster University\, 130 Edgar Road\, Webster Groves\, MO\, 63119\, United States
END:VEVENT
BEGIN:VEVENT
DTSTART;TZID=America/New_York:20210604T200000
DTEND;TZID=America/New_York:20210604T200000
DTSTAMP:20260425T093828
CREATED:20210330T152631Z
LAST-MODIFIED:20210506T125521Z
UID:10000891-1622836800-1622836800@www.leonardslatkin.com
SUMMARY:Opera Theatre of Saint Louis
DESCRIPTION:Ron Himes\, Stage Director\nNicole Cabell\, Mary\nRehanna Thelwell\, Aunt Lou\nChristian Mark Gibbs\, Nate\nWill Liverman\, Bob\nSTILL: Highway 1\, U.S.A.
URL:https://www.leonardslatkin.com/schedule/opera-theatre-of-saint-louis-7/
LOCATION:Loretto-Hilton Center at Webster University\, 130 Edgar Road\, Webster Groves\, MO\, 63119\, United States
END:VEVENT
BEGIN:VEVENT
DTSTART;TZID=America/New_York:20210606T200000
DTEND;TZID=America/New_York:20210606T200000
DTSTAMP:20260425T093828
CREATED:20210330T151913Z
LAST-MODIFIED:20210330T151913Z
UID:10000888-1623009600-1623009600@www.leonardslatkin.com
SUMMARY:Opera Theatre of Saint Louis
DESCRIPTION:Seán Curran\, Stage Director\nLevi Hernandez\, Gianni Schicchi\nJoshua Blue\, Rinuccio\nElena Villalónl\, Lauretta\nLa’Shelle Allen\, Zita\nJermaine Smith\, Gherardo\nMeghan Kasanders\, Nella\nCalvin Griffin\, Simone\nPUCCINI: Gianni Schicchi
URL:https://www.leonardslatkin.com/schedule/opera-theatre-of-saint-louis-4/
LOCATION:Loretto-Hilton Center at Webster University\, 130 Edgar Road\, Webster Groves\, MO\, 63119\, United States
END:VEVENT
BEGIN:VEVENT
DTSTART;TZID=America/New_York:20210609T200000
DTEND;TZID=America/New_York:20210609T200000
DTSTAMP:20260425T093828
CREATED:20210506T125241Z
LAST-MODIFIED:20210604T161646Z
UID:10000907-1623268800-1623268800@www.leonardslatkin.com
SUMMARY:Opera Theatre of Saint Louis
DESCRIPTION:Ron Himes\, Stage Director\nNicole Cabell\, Mary\nRehanna Thelwell\, Aunt Lou\nChristian Mark Gibbs\, Nate\nWill Liverman\, Bob\nSTILL: Highway 1\, U.S.A.
URL:https://www.leonardslatkin.com/schedule/opera-theatre-of-st-louis-2/
LOCATION:Loretto-Hilton Center at Webster University\, 130 Edgar Road\, Webster Groves\, MO\, 63119\, United States
END:VEVENT
BEGIN:VEVENT
DTSTART;TZID=America/New_York:20210611T200000
DTEND;TZID=America/New_York:20210611T200000
DTSTAMP:20260425T093828
CREATED:20210330T151951Z
LAST-MODIFIED:20210330T151951Z
UID:10000889-1623441600-1623441600@www.leonardslatkin.com
SUMMARY:Opera Theatre of Saint Louis
DESCRIPTION:Seán Curran\, Stage Director\nLevi Hernandez\, Gianni Schicchi\nJoshua Blue\, Rinuccio\nElena Villalónl\, Lauretta\nLa’Shelle Allen\, Zita\nJermaine Smith\, Gherardo\nMeghan Kasanders\, Nella\nCalvin Griffin\, Simone\nPUCCINI: Gianni Schicchi
URL:https://www.leonardslatkin.com/schedule/opera-theatre-of-saint-louis-5/
LOCATION:Loretto-Hilton Center at Webster University\, 130 Edgar Road\, Webster Groves\, MO\, 63119\, United States
END:VEVENT
BEGIN:VEVENT
DTSTART;TZID=America/New_York:20210613T200000
DTEND;TZID=America/New_York:20210613T200000
DTSTAMP:20260425T093828
CREATED:20210330T152729Z
LAST-MODIFIED:20210506T125428Z
UID:10000892-1623614400-1623614400@www.leonardslatkin.com
SUMMARY:Opera Theatre of Saint Louis
DESCRIPTION:Ron Himes\, Stage Director\nNicole Cabell\, Mary\nRehanna Thelwell\, Aunt Lou\nChristian Mark Gibbs\, Nate\nWill Liverman\, Bob\nSTILL: Highway 1\, U.S.A.
URL:https://www.leonardslatkin.com/schedule/opera-theatre-of-saint-louis-8/
LOCATION:Loretto-Hilton Center at Webster University\, 130 Edgar Road\, Webster Groves\, MO\, 63119\, United States
END:VEVENT
BEGIN:VEVENT
DTSTART;TZID=America/New_York:20210617T200000
DTEND;TZID=America/New_York:20210617T200000
DTSTAMP:20260425T093828
CREATED:20210330T152805Z
LAST-MODIFIED:20210506T125325Z
UID:10000893-1623960000-1623960000@www.leonardslatkin.com
SUMMARY:Opera Theatre of Saint Louis
DESCRIPTION:Ron Himes\, Stage Director\nNicole Cabell\, Mary\nRehanna Thelwell\, Aunt Lou\nChristian Mark Gibbs\, Nate\nWill Liverman\, Bob\nSTILL: Highway 1\, U.S.A.
URL:https://www.leonardslatkin.com/schedule/opera-theatre-of-saint-louis-9/
LOCATION:Loretto-Hilton Center at Webster University\, 130 Edgar Road\, Webster Groves\, MO\, 63119\, United States
END:VEVENT
END:VCALENDAR