BEGIN:VCALENDAR
VERSION:2.0
PRODID:-//LEONARD SLATKIN - ECPv6.15.17.1//NONSGML v1.0//EN
CALSCALE:GREGORIAN
METHOD:PUBLISH
X-ORIGINAL-URL:https://www.leonardslatkin.com
X-WR-CALDESC:Events for LEONARD SLATKIN
REFRESH-INTERVAL;VALUE=DURATION:PT1H
X-Robots-Tag:noindex
X-PUBLISHED-TTL:PT1H
BEGIN:VTIMEZONE
TZID:America/New_York
BEGIN:DAYLIGHT
TZOFFSETFROM:-0500
TZOFFSETTO:-0400
TZNAME:EDT
DTSTART:20200308T070000
END:DAYLIGHT
BEGIN:STANDARD
TZOFFSETFROM:-0400
TZOFFSETTO:-0500
TZNAME:EST
DTSTART:20201101T060000
END:STANDARD
BEGIN:DAYLIGHT
TZOFFSETFROM:-0500
TZOFFSETTO:-0400
TZNAME:EDT
DTSTART:20210314T070000
END:DAYLIGHT
BEGIN:STANDARD
TZOFFSETFROM:-0400
TZOFFSETTO:-0500
TZNAME:EST
DTSTART:20211107T060000
END:STANDARD
BEGIN:DAYLIGHT
TZOFFSETFROM:-0500
TZOFFSETTO:-0400
TZNAME:EDT
DTSTART:20220313T070000
END:DAYLIGHT
BEGIN:STANDARD
TZOFFSETFROM:-0400
TZOFFSETTO:-0500
TZNAME:EST
DTSTART:20221106T060000
END:STANDARD
END:VTIMEZONE
BEGIN:VEVENT
DTSTART;TZID=America/New_York:20210410T170000
DTEND;TZID=America/New_York:20210410T170000
DTSTAMP:20260424T155955
CREATED:20210330T153626Z
LAST-MODIFIED:20210330T154035Z
UID:10000894-1618074000-1618074000@www.leonardslatkin.com
SUMMARY:Rhode Island Philharmonic Orchestra
DESCRIPTION:Jon Kimura Parker\, piano\nBARTÓK: Romanian Folk Dances\nWAGNER: Siegfried Idyll\nMOZART: Piano Concerto No. 21
URL:https://www.leonardslatkin.com/schedule/rhode-island-philharmonic-orchestra/
LOCATION:Veterans Memorial Auditorium (The VETS)\, 1 Ave of the Arts\, Providence\, RI\, 02903\, United States
END:VEVENT
BEGIN:VEVENT
DTSTART;TZID=America/New_York:20210410T200000
DTEND;TZID=America/New_York:20210410T200000
DTSTAMP:20260424T155955
CREATED:20210330T153957Z
LAST-MODIFIED:20210330T153957Z
UID:10000895-1618084800-1618084800@www.leonardslatkin.com
SUMMARY:Rhode Island Philharmonic Orchestra
DESCRIPTION:Jon Kimura Parker\, piano\nBARTÓK: Romanian Folk Dances\nWAGNER: Siegfried Idyll\nMOZART: Piano Concerto No. 21\nLIVE WEBCAST @ 8:00 pm EDT
URL:https://www.leonardslatkin.com/schedule/rhode-island-philharmonic-orchestra-2/
LOCATION:Veterans Memorial Auditorium (The VETS)\, 1 Ave of the Arts\, Providence\, RI\, 02903\, United States
END:VEVENT
BEGIN:VEVENT
DTSTART;TZID=America/New_York:20210415T193000
DTEND;TZID=America/New_York:20210415T193000
DTSTAMP:20260424T155955
CREATED:20201209T162703Z
LAST-MODIFIED:20210301T164726Z
UID:10000876-1618515000-1618515000@www.leonardslatkin.com
SUMMARY:Detroit Symphony Orchestra
DESCRIPTION:STILL/arr. Slatkin: Little Folk Suites\nGINASTERA: Concerto for Strings\nLIVE WEBCAST @ 7:30 pm EDT
URL:https://www.leonardslatkin.com/schedule/detroit-symphony-orchestra-115/
LOCATION:Orchestra Hall\, 3711 Woodward Avenue\, Detroit\, MI\, 48201\, United States
GEO:42.3489084;-83.0593353
X-APPLE-STRUCTURED-LOCATION;VALUE=URI;X-ADDRESS=Orchestra Hall 3711 Woodward Avenue Detroit MI 48201 United States;X-APPLE-RADIUS=500;X-TITLE=3711 Woodward Avenue:geo:-83.0593353,42.3489084
END:VEVENT
BEGIN:VEVENT
DTSTART;TZID=America/New_York:20210416T193000
DTEND;TZID=America/New_York:20210416T193000
DTSTAMP:20260424T155955
CREATED:20201209T162948Z
LAST-MODIFIED:20210301T164632Z
UID:10000877-1618601400-1618601400@www.leonardslatkin.com
SUMMARY:Detroit Symphony Orchestra
DESCRIPTION:FINZI: Prelude for String Orchestra\nJENNIFER HIGDON: Amazing Grace\nBLOCH: Concerto Grosso No. 1\nLIVE WEBCAST @ 7:30 pm EDT
URL:https://www.leonardslatkin.com/schedule/detroit-symphony-orchestra-116/
LOCATION:Orchestra Hall\, 3711 Woodward Avenue\, Detroit\, MI\, 48201\, United States
GEO:42.3489084;-83.0593353
X-APPLE-STRUCTURED-LOCATION;VALUE=URI;X-ADDRESS=Orchestra Hall 3711 Woodward Avenue Detroit MI 48201 United States;X-APPLE-RADIUS=500;X-TITLE=3711 Woodward Avenue:geo:-83.0593353,42.3489084
END:VEVENT
BEGIN:VEVENT
DTSTART;TZID=America/New_York:20210423T193000
DTEND;TZID=America/New_York:20210423T193000
DTSTAMP:20260424T155955
CREATED:20210310T233531Z
LAST-MODIFIED:20210310T233531Z
UID:10000882-1619206200-1619206200@www.leonardslatkin.com
SUMMARY:St. Louis Symphony Orchestra
DESCRIPTION:Erin Schreiber\, violin\nBRITTEN: Variations on a Theme of Frank Bridge\nRAVEL: Tzigane\nGINASTERA: Variaciones concertantes
URL:https://www.leonardslatkin.com/schedule/st-louis-symphony-orchestra-13/
LOCATION:Powell Hall\, 718 North Grand Boulevard\, St. Louis\, MO\,  63103\, United States
GEO:38.6402687;-90.2301333
X-APPLE-STRUCTURED-LOCATION;VALUE=URI;X-ADDRESS=Powell Hall 718 North Grand Boulevard St. Louis MO  63103 United States;X-APPLE-RADIUS=500;X-TITLE=718 North Grand Boulevard:geo:-90.2301333,38.6402687
END:VEVENT
BEGIN:VEVENT
DTSTART;TZID=America/New_York:20210424T190000
DTEND;TZID=America/New_York:20210424T190000
DTSTAMP:20260424T155955
CREATED:20200417T210309Z
LAST-MODIFIED:20201123T145559Z
UID:10000869-1619290800-1619290800@www.leonardslatkin.com
SUMMARY:Vancouver Symphony Orchestra (Canceled)
DESCRIPTION:Measha Brueggergosman\, soprano\nBERNSTEIN: Fancy Free: Three Dance Variations\nCINDY MCTEE: Double Play\nBARBER: Knoxville\, Summer of 1915 \nCOPLAND: Appalachian Spring (complete ballet)
URL:https://www.leonardslatkin.com/schedule/vancouver-symphony-orchestra/
LOCATION:Orpheum Theatre\, 601 Smithe Street\, Vancouver\, British Columbia\, V6B 3L4\, Canada
END:VEVENT
BEGIN:VEVENT
DTSTART;TZID=America/New_York:20210424T193000
DTEND;TZID=America/New_York:20210424T193000
DTSTAMP:20260424T155955
CREATED:20210310T233647Z
LAST-MODIFIED:20210310T233647Z
UID:10000883-1619292600-1619292600@www.leonardslatkin.com
SUMMARY:St. Louis Symphony Orchestra
DESCRIPTION:Erin Schreiber\, violin\nBRITTEN: Variations on a Theme of Frank Bridge\nRAVEL: Tzigane\nGINASTERA: Variaciones concertantes
URL:https://www.leonardslatkin.com/schedule/st-louis-symphony-orchestra-14/
LOCATION:Powell Hall\, 718 North Grand Boulevard\, St. Louis\, MO\,  63103\, United States
GEO:38.6402687;-90.2301333
X-APPLE-STRUCTURED-LOCATION;VALUE=URI;X-ADDRESS=Powell Hall 718 North Grand Boulevard St. Louis MO  63103 United States;X-APPLE-RADIUS=500;X-TITLE=718 North Grand Boulevard:geo:-90.2301333,38.6402687
END:VEVENT
BEGIN:VEVENT
DTSTART;TZID=America/New_York:20210425T140000
DTEND;TZID=America/New_York:20210425T140000
DTSTAMP:20260424T155955
CREATED:20200417T210525Z
LAST-MODIFIED:20201123T145543Z
UID:10000870-1619359200-1619359200@www.leonardslatkin.com
SUMMARY:Vancouver Symphony Orchestra (Canceled)
DESCRIPTION:Measha Brueggergosman\, soprano\nBERNSTEIN: Fancy Free: Three Dance Variations\nCINDY MCTEE: Double Play\nBARBER: Knoxville\, Summer of 1915 \nCOPLAND: Appalachian Spring (complete ballet)
URL:https://www.leonardslatkin.com/schedule/vancouver-symphony-orchestra-2/
LOCATION:Orpheum Theatre\, 601 Smithe Street\, Vancouver\, British Columbia\, V6B 3L4\, Canada
END:VEVENT
BEGIN:VEVENT
DTSTART;TZID=America/New_York:20210425T150000
DTEND;TZID=America/New_York:20210425T150000
DTSTAMP:20260424T155955
CREATED:20210310T233746Z
LAST-MODIFIED:20210310T233746Z
UID:10000884-1619362800-1619362800@www.leonardslatkin.com
SUMMARY:St. Louis Symphony Orchestra
DESCRIPTION:Erin Schreiber\, violin\nBRITTEN: Variations on a Theme of Frank Bridge\nRAVEL: Tzigane\nGINASTERA: Variaciones concertantes
URL:https://www.leonardslatkin.com/schedule/st-louis-symphony-orchestra-15/
LOCATION:Powell Hall\, 718 North Grand Boulevard\, St. Louis\, MO\,  63103\, United States
GEO:38.6402687;-90.2301333
X-APPLE-STRUCTURED-LOCATION;VALUE=URI;X-ADDRESS=Powell Hall 718 North Grand Boulevard St. Louis MO  63103 United States;X-APPLE-RADIUS=500;X-TITLE=718 North Grand Boulevard:geo:-90.2301333,38.6402687
END:VEVENT
BEGIN:VEVENT
DTSTART;TZID=America/New_York:20210426T193000
DTEND;TZID=America/New_York:20210426T193000
DTSTAMP:20260424T155955
CREATED:20210407T191348Z
LAST-MODIFIED:20210407T192013Z
UID:10000897-1619465400-1619465400@www.leonardslatkin.com
SUMMARY:Chamber Music Society of St. Louis
DESCRIPTION:WEBER: Invitation to the Dance\nPADEREWSKI: Minuet in G\, Op. 14 No. 1\nWIM STATIUS MULLER: Antillean Dances\nALBENIZ/arr. KREISLER: Tango\nDVOŘÁK: Two Prague Waltzes\nRESPIGHI: Ancient Airs and Dances\, Suite No. 3\nWARLOCK: Capriol Suite\nBARTÓK: Romanian Folk Dances\nDIGITAL CONCERT 7:30 pm CDT
URL:https://www.leonardslatkin.com/schedule/chamber-music-society-of-st-louis/
LOCATION:The Sheldon\, 3648 Washington Boulevard\, St. Louis\, MO\, 63108\, United States
GEO:38.6398481;-90.2334442
X-APPLE-STRUCTURED-LOCATION;VALUE=URI;X-ADDRESS=The Sheldon 3648 Washington Boulevard St. Louis MO 63108 United States;X-APPLE-RADIUS=500;X-TITLE=3648 Washington Boulevard:geo:-90.2334442,38.6398481
END:VEVENT
END:VCALENDAR