BEGIN:VCALENDAR
VERSION:2.0
PRODID:-//LEONARD SLATKIN - ECPv5.7.0//NONSGML v1.0//EN
CALSCALE:GREGORIAN
METHOD:PUBLISH
X-WR-CALNAME:LEONARD SLATKIN
X-ORIGINAL-URL:https://www.leonardslatkin.com
X-WR-CALDESC:Events for LEONARD SLATKIN
BEGIN:VTIMEZONE
TZID:America/New_York
BEGIN:DAYLIGHT
TZOFFSETFROM:-0500
TZOFFSETTO:-0400
TZNAME:EDT
DTSTART:20190310T070000
END:DAYLIGHT
BEGIN:STANDARD
TZOFFSETFROM:-0400
TZOFFSETTO:-0500
TZNAME:EST
DTSTART:20191103T060000
END:STANDARD
END:VTIMEZONE
BEGIN:VEVENT
DTSTART;TZID=America/New_York:20190222T200000
DTEND;TZID=America/New_York:20190222T200000
DTSTAMP:20210702T071433
CREATED:20180126T150648Z
LAST-MODIFIED:20180820T161428Z
UID:5350-1550865600-1550865600@www.leonardslatkin.com
SUMMARY:Detroit Symphony Orchestra
DESCRIPTION:AMERICAN FESTIVAL\nKimberly Kaloyanides Kennedy\, violin\nKRISTIN KUSTER: Dune Acres (World Premiere)\nCAGE: 4’33”\nBARBER: Concerto for Violin\nBERNSTEIN/FOSS: Prelude\, Fugue and Riffs\nBERNSTEIN: Selections from West Side Story\nLIVE WEBCAST @ 8:00 pm EST
URL:https://www.leonardslatkin.com/schedule/detroit-symphony-orchestra-89/
LOCATION:Orchestra Hall\, 3711 Woodward Avenue\, Detroit\, MI\, 48201\, United States
GEO:42.3489084;-83.0593353
X-APPLE-STRUCTURED-LOCATION;VALUE=URI;X-ADDRESS=Orchestra Hall 3711 Woodward Avenue Detroit MI 48201 United States;X-APPLE-RADIUS=500;X-TITLE=3711 Woodward Avenue:geo:-83.0593353,42.3489084
END:VEVENT
END:VCALENDAR