BEGIN:VCALENDAR
VERSION:2.0
PRODID:-//LEONARD SLATKIN - ECPv5.7.0//NONSGML v1.0//EN
CALSCALE:GREGORIAN
METHOD:PUBLISH
X-WR-CALNAME:LEONARD SLATKIN
X-ORIGINAL-URL:https://www.leonardslatkin.com
X-WR-CALDESC:Events for LEONARD SLATKIN
BEGIN:VTIMEZONE
TZID:America/New_York
BEGIN:DAYLIGHT
TZOFFSETFROM:-0500
TZOFFSETTO:-0400
TZNAME:EDT
DTSTART:20180311T070000
END:DAYLIGHT
BEGIN:STANDARD
TZOFFSETFROM:-0400
TZOFFSETTO:-0500
TZNAME:EST
DTSTART:20181104T060000
END:STANDARD
END:VTIMEZONE
BEGIN:VEVENT
DTSTART;TZID=America/New_York:20180406T104500
DTEND;TZID=America/New_York:20180406T104500
DTSTAMP:20210702T070642
CREATED:20170216T212125Z
LAST-MODIFIED:20190327T143131Z
UID:4433-1523011500-1523011500@www.leonardslatkin.com
SUMMARY:Detroit Symphony Orchestra
DESCRIPTION:Yoonshin Song\, violin\nSTEVEN BRYANT: Zeal (World Premiere)\nBARTÓK: Violin Concerto No. 2\nWAGNER: Siegfried Idyll\nSTRAUSS: Till Eulenspiegel’s Merry Pranks
URL:https://www.leonardslatkin.com/schedule/detroit-symphony-orchestra-62/
LOCATION:Orchestra Hall\, 3711 Woodward Avenue\, Detroit\, MI\, 48201\, United States
GEO:42.3489084;-83.0593353
X-APPLE-STRUCTURED-LOCATION;VALUE=URI;X-ADDRESS=Orchestra Hall 3711 Woodward Avenue Detroit MI 48201 United States;X-APPLE-RADIUS=500;X-TITLE=3711 Woodward Avenue:geo:-83.0593353,42.3489084
END:VEVENT
END:VCALENDAR