BEGIN:VCALENDAR
VERSION:2.0
PRODID:-//LEONARD SLATKIN - ECPv6.15.17.1//NONSGML v1.0//EN
CALSCALE:GREGORIAN
METHOD:PUBLISH
X-WR-CALNAME:LEONARD SLATKIN
X-ORIGINAL-URL:https://www.leonardslatkin.com
X-WR-CALDESC:Events for LEONARD SLATKIN
REFRESH-INTERVAL;VALUE=DURATION:PT1H
X-Robots-Tag:noindex
X-PUBLISHED-TTL:PT1H
BEGIN:VTIMEZONE
TZID:America/New_York
BEGIN:DAYLIGHT
TZOFFSETFROM:-0500
TZOFFSETTO:-0400
TZNAME:EDT
DTSTART:20240310T070000
END:DAYLIGHT
BEGIN:STANDARD
TZOFFSETFROM:-0400
TZOFFSETTO:-0500
TZNAME:EST
DTSTART:20241103T060000
END:STANDARD
BEGIN:DAYLIGHT
TZOFFSETFROM:-0500
TZOFFSETTO:-0400
TZNAME:EDT
DTSTART:20250309T070000
END:DAYLIGHT
BEGIN:STANDARD
TZOFFSETFROM:-0400
TZOFFSETTO:-0500
TZNAME:EST
DTSTART:20251102T060000
END:STANDARD
BEGIN:DAYLIGHT
TZOFFSETFROM:-0500
TZOFFSETTO:-0400
TZNAME:EDT
DTSTART:20260308T070000
END:DAYLIGHT
BEGIN:STANDARD
TZOFFSETFROM:-0400
TZOFFSETTO:-0500
TZNAME:EST
DTSTART:20261101T060000
END:STANDARD
END:VTIMEZONE
BEGIN:VEVENT
DTSTART;TZID=America/New_York:20250614T193000
DTEND;TZID=America/New_York:20250614T193000
DTSTAMP:20260421T191116
CREATED:20240730T183627Z
LAST-MODIFIED:20240730T183627Z
UID:10001038-1749929400-1749929400@www.leonardslatkin.com
SUMMARY:Opera Theatre of Saint Louis
DESCRIPTION:BRITTEN: A Midsummer Night’s Dream
URL:https://www.leonardslatkin.com/schedule/opera-theatre-of-saint-louis-10/
LOCATION:Loretto-Hilton Center at Webster University\, 130 Edgar Road\, Webster Groves\, MO\, 63119\, United States
END:VEVENT
END:VCALENDAR