BEGIN:VCALENDAR
VERSION:2.0
PRODID:-//LEONARD SLATKIN - ECPv6.15.17.1//NONSGML v1.0//EN
CALSCALE:GREGORIAN
METHOD:PUBLISH
X-ORIGINAL-URL:https://www.leonardslatkin.com
X-WR-CALDESC:Events for LEONARD SLATKIN
REFRESH-INTERVAL;VALUE=DURATION:PT1H
X-Robots-Tag:noindex
X-PUBLISHED-TTL:PT1H
BEGIN:VTIMEZONE
TZID:America/New_York
BEGIN:DAYLIGHT
TZOFFSETFROM:-0500
TZOFFSETTO:-0400
TZNAME:EDT
DTSTART:20230312T070000
END:DAYLIGHT
BEGIN:STANDARD
TZOFFSETFROM:-0400
TZOFFSETTO:-0500
TZNAME:EST
DTSTART:20231105T060000
END:STANDARD
BEGIN:DAYLIGHT
TZOFFSETFROM:-0500
TZOFFSETTO:-0400
TZNAME:EDT
DTSTART:20240310T070000
END:DAYLIGHT
BEGIN:STANDARD
TZOFFSETFROM:-0400
TZOFFSETTO:-0500
TZNAME:EST
DTSTART:20241103T060000
END:STANDARD
BEGIN:DAYLIGHT
TZOFFSETFROM:-0500
TZOFFSETTO:-0400
TZNAME:EDT
DTSTART:20250309T070000
END:DAYLIGHT
BEGIN:STANDARD
TZOFFSETFROM:-0400
TZOFFSETTO:-0500
TZNAME:EST
DTSTART:20251102T060000
END:STANDARD
END:VTIMEZONE
BEGIN:VEVENT
DTSTART;TZID=America/New_York:20241027T150000
DTEND;TZID=America/New_York:20241027T150000
DTSTAMP:20260421T092734
CREATED:20240418T134209Z
LAST-MODIFIED:20241023T135124Z
UID:10001001-1730041200-1730041200@www.leonardslatkin.com
SUMMARY:St. Louis Symphony Orchestra
DESCRIPTION:CINDY MCTEE: Timepiece\nSCARLATTI/arr. LEONARD SLATKIN: Five Sonatas for Orchestral Wind Ensemble (World Premiere)\nDANIEL SLATKIN: Voyager 130 (U.S. Premiere)\nTCHAIKOVSKY: Symphony No. 5
URL:https://www.leonardslatkin.com/schedule/st-louis-symphony-orchestra-24/
LOCATION:Touhill Performing Arts Center\, 1 Touhill Circle\, St. Louis\, MO\, 63121\, United States
END:VEVENT
END:VCALENDAR