BEGIN:VCALENDAR
VERSION:2.0
PRODID:-//LEONARD SLATKIN - ECPv6.15.17.1//NONSGML v1.0//EN
CALSCALE:GREGORIAN
METHOD:PUBLISH
X-ORIGINAL-URL:https://www.leonardslatkin.com
X-WR-CALDESC:Events for LEONARD SLATKIN
REFRESH-INTERVAL;VALUE=DURATION:PT1H
X-Robots-Tag:noindex
X-PUBLISHED-TTL:PT1H
BEGIN:VTIMEZONE
TZID:America/New_York
BEGIN:DAYLIGHT
TZOFFSETFROM:-0500
TZOFFSETTO:-0400
TZNAME:EDT
DTSTART:20210314T070000
END:DAYLIGHT
BEGIN:STANDARD
TZOFFSETFROM:-0400
TZOFFSETTO:-0500
TZNAME:EST
DTSTART:20211107T060000
END:STANDARD
BEGIN:DAYLIGHT
TZOFFSETFROM:-0500
TZOFFSETTO:-0400
TZNAME:EDT
DTSTART:20220313T070000
END:DAYLIGHT
BEGIN:STANDARD
TZOFFSETFROM:-0400
TZOFFSETTO:-0500
TZNAME:EST
DTSTART:20221106T060000
END:STANDARD
BEGIN:DAYLIGHT
TZOFFSETFROM:-0500
TZOFFSETTO:-0400
TZNAME:EDT
DTSTART:20230312T070000
END:DAYLIGHT
BEGIN:STANDARD
TZOFFSETFROM:-0400
TZOFFSETTO:-0500
TZNAME:EST
DTSTART:20231105T060000
END:STANDARD
END:VTIMEZONE
BEGIN:VEVENT
DTSTART;TZID=America/New_York:20221119T140000
DTEND;TZID=America/New_York:20221119T140000
DTSTAMP:20260425T214158
CREATED:20220523T140748Z
LAST-MODIFIED:20220523T140821Z
UID:10000804-1668866400-1668866400@www.leonardslatkin.com
SUMMARY:NHK Symphony Orchestra
DESCRIPTION:COPLAND: Appalachian Spring (complete ballet)\nCOPLAND: Rodeo (complete ballet)
URL:https://www.leonardslatkin.com/schedule/nhk-symphony-orchestra-14/
LOCATION:NHK Hall\, 2-2-1\, Jinnan\, Shibuya-ku\, Tokyo\, 150-0041\, Japan
GEO:35.6665599;139.6968789
X-APPLE-STRUCTURED-LOCATION;VALUE=URI;X-ADDRESS=NHK Hall 2-2-1 Jinnan Shibuya-ku Tokyo 150-0041 Japan;X-APPLE-RADIUS=500;X-TITLE=2-2-1\, Jinnan\, Shibuya-ku:geo:139.6968789,35.6665599
END:VEVENT
END:VCALENDAR