BEGIN:VCALENDAR
VERSION:2.0
PRODID:-//LEONARD SLATKIN - ECPv6.15.17.1//NONSGML v1.0//EN
CALSCALE:GREGORIAN
METHOD:PUBLISH
X-ORIGINAL-URL:https://www.leonardslatkin.com
X-WR-CALDESC:Events for LEONARD SLATKIN
REFRESH-INTERVAL;VALUE=DURATION:PT1H
X-Robots-Tag:noindex
X-PUBLISHED-TTL:PT1H
BEGIN:VTIMEZONE
TZID:America/New_York
BEGIN:DAYLIGHT
TZOFFSETFROM:-0500
TZOFFSETTO:-0400
TZNAME:EDT
DTSTART:20200308T070000
END:DAYLIGHT
BEGIN:STANDARD
TZOFFSETFROM:-0400
TZOFFSETTO:-0500
TZNAME:EST
DTSTART:20201101T060000
END:STANDARD
BEGIN:DAYLIGHT
TZOFFSETFROM:-0500
TZOFFSETTO:-0400
TZNAME:EDT
DTSTART:20210314T070000
END:DAYLIGHT
BEGIN:STANDARD
TZOFFSETFROM:-0400
TZOFFSETTO:-0500
TZNAME:EST
DTSTART:20211107T060000
END:STANDARD
BEGIN:DAYLIGHT
TZOFFSETFROM:-0500
TZOFFSETTO:-0400
TZNAME:EDT
DTSTART:20220313T070000
END:DAYLIGHT
BEGIN:STANDARD
TZOFFSETFROM:-0400
TZOFFSETTO:-0500
TZNAME:EST
DTSTART:20221106T060000
END:STANDARD
END:VTIMEZONE
BEGIN:VEVENT
DTSTART;TZID=America/New_York:20211211T200000
DTEND;TZID=America/New_York:20211211T200000
DTSTAMP:20260424T222808
CREATED:20210707T183316Z
LAST-MODIFIED:20211112T194341Z
UID:10000914-1639252800-1639252800@www.leonardslatkin.com
SUMMARY:Orchestre National de Lyon
DESCRIPTION:Chœur Spirito\, choir\nANDERSON: Sleigh Ride\nADAM: Minuit Chrétiens  \nSHAW (arr. Bennett): The Many Moods of Christmas\, Suite No. 1\nVAUGHAN WILLIAMS: Fantasia on Greensleeves\nSHAW (arr. Bennett): “Angels We Have Heard On High” and “Deck the Halls” from The Many Moods of Christmas\, Suite Nos. 3 and 4\nRIMSKY-KORSAKOV: “La nuit de noël” and “Ballet des étoiles” from Christmas Eve Suite\nSHAW (arr. Bennett): The Many Moods of Christmas\, Suite No. 2\nANDERSON: A Christmas Festival
URL:https://www.leonardslatkin.com/schedule/orchestre-national-de-lyon-97/
LOCATION:Grand Théâtre Aix en Provence\, 380 Avenue Max Juvénal\, Aix-en-Provence\,  13100 \, France
GEO:43.5264091;5.4398355
X-APPLE-STRUCTURED-LOCATION;VALUE=URI;X-ADDRESS=Grand Théâtre Aix en Provence 380 Avenue Max Juvénal Aix-en-Provence  13100  France;X-APPLE-RADIUS=500;X-TITLE=380 Avenue Max Juvénal:geo:5.4398355,43.5264091
END:VEVENT
END:VCALENDAR