BEGIN:VCALENDAR
VERSION:2.0
PRODID:-//LEONARD SLATKIN - ECPv6.15.17.1//NONSGML v1.0//EN
CALSCALE:GREGORIAN
METHOD:PUBLISH
X-ORIGINAL-URL:https://www.leonardslatkin.com
X-WR-CALDESC:Events for LEONARD SLATKIN
REFRESH-INTERVAL;VALUE=DURATION:PT1H
X-Robots-Tag:noindex
X-PUBLISHED-TTL:PT1H
BEGIN:VTIMEZONE
TZID:America/New_York
BEGIN:DAYLIGHT
TZOFFSETFROM:-0500
TZOFFSETTO:-0400
TZNAME:EDT
DTSTART:20200308T070000
END:DAYLIGHT
BEGIN:STANDARD
TZOFFSETFROM:-0400
TZOFFSETTO:-0500
TZNAME:EST
DTSTART:20201101T060000
END:STANDARD
BEGIN:DAYLIGHT
TZOFFSETFROM:-0500
TZOFFSETTO:-0400
TZNAME:EDT
DTSTART:20210314T070000
END:DAYLIGHT
BEGIN:STANDARD
TZOFFSETFROM:-0400
TZOFFSETTO:-0500
TZNAME:EST
DTSTART:20211107T060000
END:STANDARD
BEGIN:DAYLIGHT
TZOFFSETFROM:-0500
TZOFFSETTO:-0400
TZNAME:EDT
DTSTART:20220313T070000
END:DAYLIGHT
BEGIN:STANDARD
TZOFFSETFROM:-0400
TZOFFSETTO:-0500
TZNAME:EST
DTSTART:20221106T060000
END:STANDARD
END:VTIMEZONE
BEGIN:VEVENT
DTSTART;TZID=America/New_York:20210529T200000
DTEND;TZID=America/New_York:20210529T200000
DTSTAMP:20260425T093823
CREATED:20210330T152556Z
LAST-MODIFIED:20210506T125616Z
UID:10000890-1622318400-1622318400@www.leonardslatkin.com
SUMMARY:Opera Theatre of Saint Louis
DESCRIPTION:Ron Himes\, Stage Director\nNicole Cabell\, Mary\nRehanna Thelwell\, Aunt Lou\nChristian Mark Gibbs\, Nate\nWill Liverman\, Bob\nSTILL: Highway 1\, U.S.A.
URL:https://www.leonardslatkin.com/schedule/opera-theatre-of-saint-louis-6/
LOCATION:Loretto-Hilton Center at Webster University\, 130 Edgar Road\, Webster Groves\, MO\, 63119\, United States
END:VEVENT
END:VCALENDAR