BEGIN:VCALENDAR
VERSION:2.0
PRODID:-//LEONARD SLATKIN - ECPv6.15.17.1//NONSGML v1.0//EN
CALSCALE:GREGORIAN
METHOD:PUBLISH
X-ORIGINAL-URL:https://www.leonardslatkin.com
X-WR-CALDESC:Events for LEONARD SLATKIN
REFRESH-INTERVAL;VALUE=DURATION:PT1H
X-Robots-Tag:noindex
X-PUBLISHED-TTL:PT1H
BEGIN:VTIMEZONE
TZID:America/New_York
BEGIN:DAYLIGHT
TZOFFSETFROM:-0500
TZOFFSETTO:-0400
TZNAME:EDT
DTSTART:20200308T070000
END:DAYLIGHT
BEGIN:STANDARD
TZOFFSETFROM:-0400
TZOFFSETTO:-0500
TZNAME:EST
DTSTART:20201101T060000
END:STANDARD
BEGIN:DAYLIGHT
TZOFFSETFROM:-0500
TZOFFSETTO:-0400
TZNAME:EDT
DTSTART:20210314T070000
END:DAYLIGHT
BEGIN:STANDARD
TZOFFSETFROM:-0400
TZOFFSETTO:-0500
TZNAME:EST
DTSTART:20211107T060000
END:STANDARD
BEGIN:DAYLIGHT
TZOFFSETFROM:-0500
TZOFFSETTO:-0400
TZNAME:EDT
DTSTART:20220313T070000
END:DAYLIGHT
BEGIN:STANDARD
TZOFFSETFROM:-0400
TZOFFSETTO:-0500
TZNAME:EST
DTSTART:20221106T060000
END:STANDARD
END:VTIMEZONE
BEGIN:VEVENT
DTSTART;TZID=America/New_York:20210328T143000
DTEND;TZID=America/New_York:20210328T143000
DTSTAMP:20260424T012950
CREATED:20201023T172426Z
LAST-MODIFIED:20210301T162715Z
UID:10000732-1616941800-1616941800@www.leonardslatkin.com
SUMMARY:Taiwan Philharmonic\, National Symphony Orchestra (Canceled)
DESCRIPTION:Paul Huang\, violin\nBERLIOZ: Roman Carnival Overture\nWALTON: Concerto for Violin\nBRAHMS: Symphony No. 4
URL:https://www.leonardslatkin.com/schedule/taiwan-philharmonic-national-symphony-orchestra-3/
LOCATION:National Kaohsiung Center for the Arts\, No.1\, Sanduo 1st Road\, Fengshan District\, Kaohsiung City\, 83075\, Taiwan
END:VEVENT
END:VCALENDAR